Workbook

Sheet Introduccion
B12: Fuente
B13: Presupuesto
B14: Resumen solicitudes
B15: Violencia de género
B16: Impugnaciones
B17: Fichas comisiones de justicia gratuita:
B18: ANDALUCÍA
B19: Almería | E19: GALICIA
B20: Cádiz | E20: MADRID
B21: Córdoba | E21: NAVARRA
B22: Granada | E22: PAIS VASCO
B23: Huelva | E23: Alava
B24: Jaén | E24: Guipuzcoa
B25: Málaga | E25: Vizcaya
B26: Sevilla | E26: LA RIOJA
B27: ARAGÓN
B28: Huesca
B29: Teruel
B30: Zaragoza
B31: ASTURIAS, PRINCIPADO DE
B32: CANARIAS
B33: Gran Canaria
B34: Lanzarote
B35: Palma, La
B36: Tenerife
B37: CANTABRIA
B38: CATALUÑA
... B60: Ámbito MINISTERIO DE JUSTICIA

Sheet Fuente
B7: Operación 11001 del Plan Nacional de Estadística Judicial
B9: Elaboración a partir de datos facilitados por las administraciones responsables de los medios al servicio de la Administración de Justicia

Sheet Presupuesto
C6: APROBADO | F6: EJECUTADO
C7: Total | D7: Casos presentados a los tribunales | E7: Casos no litigiosos o casos no presentados en los tribunales (consultas jurídicas, mediación o arbitraje, etc.) | F7: Total | G7: Total penal | H7: Total no penal | I7: Casos presentados a los tribunales | J7: Casos no litigiosos o casos no presentados en los tribunales (consultas jurídicas, mediación o arbitraje, etc.) | K7: Ejecutado en casos presentados a los tribunales PENAL | L7: Ejecutado en casos presentados a los tribunales NO PENAL | M7: Presupuesto ejecutado para casos no litigiosos o casos no presentados en los tribunales. PENAL | N7: Presupuesto ejecutado para casos no litigiosos o casos no presentados en los tribunales. NO PENAL
B8: Andalucía | C8: 51692000 | D8: - | E8: - | F8: 51683424 | G8: - | H8: - | I8: - | J8: - | K8: - | L8: - | M8: - | N8: -
B9: Aragón | C9: 5264400 | D9: - | E9: - | F9: 4615045.2 | G9: - | H9: - | I9: - | J9: - | K9: - | L9: - | M9: - | N9: -
B10: Asturias, Principado de | D10: - | E10: - | G10: - | H10: - | I10: - | J10: - | K10: - | L10: - | M10: - | N10: -
B11: Canarias | C11: 22927588 | D11: - | E11: - | F11: 29294468 | G11: - | H11: - | I11: - | J11: - | K11: - | L11: - | M11: - | N11: -
B12: Cantabria | C12: 2814033 | D12: - | E12: - | F12: 2.278.499,8 €(*) | G12: - | H12: - | I12: - | J12: - | K12: - | L12: - | M12: - | N12: -
B13: Cataluña | C13: 78200000 | D13: 77300000 | E13: 900.000,00 €(**) | F13: 78100000 | G13: - | H13: - | I13: 77100000 | J13: 900.000,00 €(**) | K13: 50300000 | L13: 26800000 | M13: - | N13: -
B14: Comunitat Valenciana | C14: 58950749 | D14: - | E14: - | F14: 58162093 | G14: - | H14: - | I14: 41068688 | J14: 17093405 | K14: 27485790 | L14: 13582898 | M14: - | N14: -
B15: Galicia | C15: 14222900 | D15: - | E15: - | F15: 14159173 | G15: - | H15: - | I15: - | J15: - | K15: - | L15: - | M15: - | N15: -
B16: Madrid, Comunidad de | C16: 61490000 | D16: - | E16: - | F16: 60790990 | G16: - | H16: - | I16: - | J16: - | K16: - | L16: - | M16: - | N16: -
B17: Navarra, Comunidad Foral de | C17: 4500000 | D17: - | E17: - | F17: 5105254.3 | G17: - | H17: - | I17: 3789113 | J17: 70.356 | K17: 2341768 | L17: 1447345 | M17: - | N17: -
B18: País Vasco | C18: 20664361 | D18: 15894000 | E18: 3133361.2 | F18: 20189742 | G18: 14594698 | H18: 5595043.4 | I18: 15757781 | J18: 2904056.7 | K18: 12063159 | L18: 3694621.8 | M18: 2531539.5 | N18: 372517.26
B19: Rioja, La | C19: 1600000 | D19: - | E19: - | F19: 1509641.4 | G19: 649968.1 | H19: 859673.3 | I19: - | J19: - | K19: - | L19: - | M19: - | N19: -
B20: Ámbito Ministerio de Justicia | C20: 53288520 | D20: - | E20: - | F20: 52.405.494,52‬ | G20: - | H20: - | I20: - | J20: - | K20: - | L20: - | M20: - | N20: -
B21: (*) En el año 2024 solo se han compensado tres trimestres ya que el cuarto se compensa con presupuesto del ejercicio 2025.
B22: (**) No incluye mediación.

Sheet Resumen solicitudes
C7: Nº de solicitudes registradas | E7: Inadmitidas ab initio(1) | F7: Denegadas tras tramitación | G7: Resueltas | I7: Pendientes
G9: Notificadas al órgano(2) | H9: Pendientes de notificar al órgano(2)
C10: Procedentes de colegios profesionales | D10: Procedentes de juzgados o decanatos
B11: ANDALUCÍA | C11: =ANDALUCÍA!B16 -> 195499 | D11: =ANDALUCÍA!C16 -> 0 | E11: =ANDALUCÍA!D16 -> 6297 | F11: =ANDALUCÍA!E16 -> 20854 | G11: =ANDALUCÍA!F16 -> 174773 | H11: =ANDALUCÍA!G16 -> 320 | I11: =ANDALUCÍA!H16 -> 19759
B12: Almería | C12: =Almería!B16 -> 20363 | D12: =Almería!C16 -> 0 | E12: =Almería!D16 -> 0 | F12: =Almería!E16 -> 1598 | G12: =Almería!F16 -> 20363 | H12: =Almería!G16 -> 0 | I12: =Almería!H16 -> 0
B13: Cádiz | C13: =Cádiz!B16 -> 31836 | D13: =Cádiz!C16 -> 0 | E13: =Cádiz!D16 -> 146 | F13: =Cádiz!E16 -> 3281 | G13: =Cádiz!F16 -> 31836 | H13: =Cádiz!G16 -> 0 | I13: =Cádiz!H16 -> 0
B14: Córdoba | C14: =Córdoba!B16 -> 13460 | D14: =Córdoba!C16 -> - | E14: =Córdoba!D16 -> 691 | F14: =Córdoba!E16 -> 1451 | G14: =Córdoba!F16 -> 13460 | H14: =Córdoba!G16 -> - | I14: =Córdoba!H16 -> -
B15: Granada | C15: =Granada!B16 -> 21682 | D15: =Granada!C16 -> - | E15: =Granada!D16 -> 554 | F15: =Granada!E16 -> 1848 | G15: =Granada!F16 -> 19280 | H15: =Granada!G16 -> 0 | I15: =Granada!H16 -> 0
B16: Huelva | C16: =Huelva!B16 -> 9838 | D16: =Huelva!C16 -> No se reciben | E16: =Huelva!D16 -> 191 | F16: =Huelva!E16 -> 1147 | G16: =Huelva!F16 -> 10534 | H16: =Huelva!G16 -> - | I16: =Huelva!H16 -> -
B17: Jaén | C17: =Jaén!B16 -> 10680 | D17: =Jaén!C16 -> - | E17: =Jaén!D16 -> 634 | F17: =Jaén!E16 -> 2807 | G17: =Jaén!F16 -> 11206 | H17: =Jaén!G16 -> 320 | I17: =Jaén!H16 -> 320
B18: Málaga | C18: =Málaga!B16 -> 38406 | D18: =Málaga!C16 -> 0 | E18: =Málaga!D16 -> 0 | F18: =Málaga!E16 -> 4846 | G18: =Málaga!F16 -> 38165 | H18: =Málaga!G16 -> 0 | I18: =Málaga!H16 -> 0
B19: Sevilla | C19: =Sevilla!B16 -> 49234 | D19: =Sevilla!C16 -> - | E19: =Sevilla!D16 -> 4081 | F19: =Sevilla!E16 -> 3876 | G19: =Sevilla!F16 -> 29929 | H19: =Sevilla!G16 -> - | I19: =Sevilla!H16 -> 19439
B20: ARAGÓN | C20: =ARAGÓN!B16 -> 14762 | D20: =ARAGÓN!C16 -> - | E20: =ARAGÓN!D16 -> - | F20: =ARAGÓN!E16 -> 2866 | G20: =ARAGÓN!F16 -> 14242 | H20: =ARAGÓN!G16 -> - | I20: =ARAGÓN!H16 -> 520
B21: Huesca | C21: =Huesca!B16 -> 2130 | D21: =Huesca!C16 -> - | E21: =Huesca!D16 -> - | F21: =Huesca!E16 -> 511 | G21: =Huesca!F16 -> 2086 | H21: =Huesca!G16 -> - | I21: =Huesca!H16 -> 44
B22: Teruel | C22: =Teruel!B16 -> 1309 | D22: =Teruel!C16 -> - | E22: =Teruel!D16 -> - | F22: =Teruel!E16 -> 238 | G22: =Teruel!F16 -> 1282 | H22: =Teruel!G16 -> - | I22: =Teruel!H16 -> 27
B23: Zaragoza | C23: =Zaragoza!B16 -> 11323 | D23: =Zaragoza!C16 -> - | E23: =Zaragoza!D16 -> - | F23: =Zaragoza!E16 -> 2117 | G23: =Zaragoza!F16 -> 10874 | H23: =Zaragoza!G16 -> - | I23: =Zaragoza!H16 -> 449
B24: ASTURIAS, PRINCIPADO DE | C24: ='ASTURIAS, PRINCIPADO DE'!B16 -> 0 | D24: ='ASTURIAS, PRINCIPADO DE'!C16 -> - | E24: ='ASTURIAS, PRINCIPADO DE'!D16 -> - | F24: ='ASTURIAS, PRINCIPADO DE'!E16 -> 0 | G24: ='ASTURIAS, PRINCIPADO DE'!F16 -> - | H24: ='ASTURIAS, PRINCIPADO DE'!G16 -> - | I24: ='ASTURIAS, PRINCIPADO DE'!H16 -> -
B25: CANARIAS | C25: =CANARIAS!B16 -> 25048 | D25: =CANARIAS!C16 -> 690 | E25: =CANARIAS!D16 -> 1406 | F25: =CANARIAS!E16 -> 2595 | G25: =CANARIAS!F16 -> 694 | H25: =CANARIAS!G16 -> 0 | I25: =CANARIAS!H16 -> 24
B26: Gran Canaria | C26: ='Gran Canaria'!B16 -> 8888 | D26: ='Gran Canaria'!C16 -> 0 | E26: ='Gran Canaria'!D16 -> 116 | F26: ='Gran Canaria'!E16 -> 943 | G26: ='Gran Canaria'!F16 -> Todas aquellas en las que había procedimiento judicial en trámite. | H26: ='Gran Canaria'!G16 -> 0 | I26: ='Gran Canaria'!H16 -> 0
B27: Lanzarote | C27: =Lanzarote!B16 -> 1427 | D27: =Lanzarote!C16 -> 0 | E27: =Lanzarote!D16 -> 111 | F27: =Lanzarote!E16 -> 151 | G27: =Lanzarote!F16 -> Todas aquellas en las que había procedimiento judicial en trámite. | H27: =Lanzarote!G16 -> 0 | I27: =Lanzarote!H16 -> 24
B28: Tenerife | C28: =Tenerife!B16 -> 14729 | D28: =Tenerife!C16 -> 0 | E28: =Tenerife!D16 -> 1083 | F28: =Tenerife!E16 -> 1433 | G28: =Tenerife!F16 -> Todas aquellas en las que había procedimiento judicial en trámite. | H28: =Tenerife!G16 -> 0 | I28: =Tenerife!H16 -> 0
B29: CANTABRIA | C29: =CANTABRIA!B16 -> 7059 | D29: =CANTABRIA!C16 -> 0 | E29: =CANTABRIA!D16 -> 102 | F29: =CANTABRIA!E16 -> 1133 | G29: =CANTABRIA!F16 -> 6957 | H29: =CANTABRIA!G16 -> 0 | I29: =CANTABRIA!H16 -> 0
B30: CATALUÑA | C30: =CATALUÑA!B16 -> 223009 | D30: =CATALUÑA!C16 -> - | E30: =CATALUÑA!D16 -> 14491 | F30: =CATALUÑA!E16 -> 28102 | G30: =CATALUÑA!F16 -> 209016 | H30: =CATALUÑA!G16 -> - | I30: =CATALUÑA!H16 -> 34135
B31: Barcelona | C31: =Barcelona!B16 -> 154291 | D31: =Barcelona!C16 -> - | E31: =Barcelona!D16 -> 8136 | F31: =Barcelona!E16 -> 19216 | G31: =Barcelona!F16 -> 145487 | H31: =Barcelona!G16 -> - | I31: =Barcelona!H16 -> 25918
B32: Girona | C32: =Girona!B16 -> 30065 | D32: =Girona!C16 -> - | E32: =Girona!D16 -> 1191 | F32: =Girona!E16 -> 3405 | G32: =Girona!F16 -> 27641 | H32: =Girona!G16 -> - | I32: =Girona!H16 -> 5881
B33: Lleida | C33: =Lleida!B16 -> 15043 | D33: =Lleida!C16 -> - | E33: =Lleida!D16 -> 3444 | F33: =Lleida!E16 -> 1285 | G33: =Lleida!F16 -> 11673 | H33: =Lleida!G16 -> - | I33: =Lleida!H16 -> 438
B34: Tarragona | C34: =Tarragona!B16 -> 19113 | D34: =Tarragona!C16 -> - | E34: =Tarragona!D16 -> 1717 | F34: =Tarragona!E16 -> 3793 | G34: =Tarragona!F16 -> 19702 | H34: =Tarragona!G16 -> - | I34: =Tarragona!H16 -> 1680
B35: Terras del'Ebre | C35: ='Terres de l''Ebre'!B16 -> 4494 | D35: ='Terres de l''Ebre'!C16 -> - | E35: ='Terres de l''Ebre'!D16 -> - | F35: ='Terres de l''Ebre'!E16 -> 403 | G35: ='Terres de l''Ebre'!F16 -> 4513 | H35: ='Terres de l''Ebre'!G16 -> - | I35: ='Terres de l''Ebre'!H16 -> 218
B36: COMUNITAT VALENCIANA | C36: ='C. VALENCIANA'!B16 -> 122178 | D36: ='C. VALENCIANA'!C16 -> 122178 | E36: ='C. VALENCIANA'!D16 -> 23591 | F36: ='C. VALENCIANA'!E16 -> 15515 | G36: ='C. VALENCIANA'!F16 -> 122178 | H36: ='C. VALENCIANA'!G16 -> - | I36: ='C. VALENCIANA'!H16 -> -
B37: Alicante/Alacant | C37: =Alicante_Alacant!B16 -> 40832 | D37: =Alicante_Alacant!C16 -> 40832 | E37: =Alicante_Alacant!D16 -> 4164 | F37: =Alicante_Alacant!E16 -> 4285 | G37: =Alicante_Alacant!F16 -> 40832 | H37: =Alicante_Alacant!G16 -> - | I37: =Alicante_Alacant!H16 -> -
B38: Castellón/Castelló | C38: =Castellón_Castelló!B16 -> 13920 | D38: =Castellón_Castelló!C16 -> 13920 | E38: =Castellón_Castelló!D16 -> 13920 | F38: =Castellón_Castelló!E16 -> 2136 | G38: =Castellón_Castelló!F16 -> 13920 | H38: =Castellón_Castelló!G16 -> - | I38: =Castellón_Castelló!H16 -> -
B39: Valencia/València | C39: =Valencia_València!B16 -> 67426 | D39: =Valencia_València!C16 -> 67426 | E39: =Valencia_València!D16 -> 5507 | F39: =Valencia_València!E16 -> 9094 | G39: =Valencia_València!F16 -> 67426 | H39: =Valencia_València!G16 -> - | I39: =Valencia_València!H16 -> -
B40: GALICIA | C40: =GALICIA!B16 -> 48358 | D40: =GALICIA!C16 -> 0 | E40: =GALICIA!D16 -> 0 | F40: =GALICIA!E16 -> 8516 | G40: =GALICIA!F16 -> 49327 | H40: =GALICIA!G16 -> 0 | I40: =GALICIA!H16 -> 66
B41: A Coruña | C41: ='Coruña, A'!B16 -> 16815 | D41: ='Coruña, A'!C16 -> 0 | E41: ='Coruña, A'!D16 -> 0 | F41: ='Coruña, A'!E16 -> 2662 | G41: ='Coruña, A'!F16 -> 16877 | H41: ='Coruña, A'!G16 -> 0 | I41: ='Coruña, A'!H16 -> 49
B42: Lugo | C42: =Lugo!B16 -> 6137 | D42: =Lugo!C16 -> 0 | E42: =Lugo!D16 -> 0 | F42: =Lugo!E16 -> 1161 | G42: =Lugo!F16 -> 6087 | H42: =Lugo!G16 -> 0 | I42: =Lugo!H16 -> 5
B43: Ourense | C43: =Ourense!B16 -> 6130 | D43: =Ourense!C16 -> 0 | E43: =Ourense!D16 -> 0 | F43: =Ourense!E16 -> 1137 | G43: =Ourense!F16 -> 6952 | H43: =Ourense!G16 -> 0 | I43: =Ourense!H16 -> 11
B44: Pontevedra | C44: =Pontevedra!B16 -> 19276 | D44: =Pontevedra!C16 -> 0 | E44: =Pontevedra!D16 -> 0 | F44: =Pontevedra!E16 -> 3556 | G44: =Pontevedra!F16 -> 19411 | H44: =Pontevedra!G16 -> 0 | I44: =Pontevedra!H16 -> 1
B45: MADRID, COMUNIDAD DE | C45: ='MADRID, COMUNIDAD DE'!B16 -> 99847 | D45: ='MADRID, COMUNIDAD DE'!C16 -> 0 | E45: ='MADRID, COMUNIDAD DE'!D16 -> 29937 | F45: ='MADRID, COMUNIDAD DE'!E16 -> 8900 | G45: ='MADRID, COMUNIDAD DE'!F16 -> 106672 | H45: ='MADRID, COMUNIDAD DE'!G16 -> 0 | I45: ='MADRID, COMUNIDAD DE'!H16 -> 52
B46: NAVARRA, COMUNIDAD FORAL DE | C46: ='NAVARRA, COMUNIDAD FORAL DE'!B16 -> 14021 | D46: ='NAVARRA, COMUNIDAD FORAL DE'!C16 -> 0 | E46: ='NAVARRA, COMUNIDAD FORAL DE'!D16 -> 239 | F46: ='NAVARRA, COMUNIDAD FORAL DE'!E16 -> 987 | G46: ='NAVARRA, COMUNIDAD FORAL DE'!F16 -> 11700 | H46: ='NAVARRA, COMUNIDAD FORAL DE'!G16 -> 0 | I46: ='NAVARRA, COMUNIDAD FORAL DE'!H16 -> 293
B47: PAÍS VASCO | C47: ='PAÍS VASCO'!B16 -> 36393 | D47: ='PAÍS VASCO'!C16 -> 0 | E47: ='PAÍS VASCO'!D16 -> 0 | F47: ='PAÍS VASCO'!E16 -> 2377 | G47: ='PAÍS VASCO'!F16 -> 24181 | H47: ='PAÍS VASCO'!G16 -> 0 | I47: ='PAÍS VASCO'!H16 -> 0
B48: Araba/Álava | C48: =Araba_Álava!B16 -> 7367 | D48: =Araba_Álava!C16 -> 0 | E48: =Araba_Álava!D16 -> 0 | F48: =Araba_Álava!E16 -> 795 | G48: =Araba_Álava!F16 -> 7367 | H48: =Araba_Álava!G16 -> 0 | I48: =Araba_Álava!H16 -> 0
B49: Bizkaia | C49: =Bizkaia!B16 -> 16814 | D49: =Bizkaia!C16 -> 0 | E49: =Bizkaia!D16 -> 0 | F49: =Bizkaia!E16 -> 1582 | G49: =Bizkaia!F16 -> 16814 | H49: =Bizkaia!G16 -> 0 | I49: =Bizkaia!H16 -> -
B50: Guipuzkoa | C50: =Guipuzkoa!B16 -> 12212 | D50: =Guipuzkoa!C16 -> 0 | E50: =Guipuzkoa!D16 -> 0 | F50: =Guipuzkoa!E16 -> - | G50: =Guipuzkoa!F16 -> - | H50: =Guipuzkoa!G16 -> - | I50: =Guipuzkoa!H16 -> -
B51: RIOJA, LA | C51: ='RIOJA, LA'!B16 -> 4125 | D51: ='RIOJA, LA'!C16 -> - | E51: ='RIOJA, LA'!D16 -> 62 | F51: ='RIOJA, LA'!E16 -> 638 | G51: ='RIOJA, LA'!F16 -> 3748 | H51: ='RIOJA, LA'!G16 -> 0 | I51: ='RIOJA, LA'!H16 -> 377
B52: Ámbito MINISTERIO DE JUSTICIA | C52: ='Ámbito MINISTERIO'!B15 -> - | D52: ='Ámbito MINISTERIO'!C15 -> - | E52: ='Ámbito MINISTERIO'!D15 -> - | F52: ='Ámbito MINISTERIO'!E15 -> - | G52: ='Ámbito MINISTERIO'!F15 -> - | H52: ='Ámbito MINISTERIO'!G15 -> - | I52: ='Ámbito MINISTERIO'!H15 -> -
B53: (1) Normalmente se produce la inadmisión por la falta de presentación de la documentación requerida en plazo concedido a tal efecto.
B54: (2) La obligación de notificación aparece expresamente recogida en el art 17 de la Ley que regula esta materia que dice: La resolución se notificará en el plazo común de tres días al solicitante, al Colegio de Abogados y, en su caso, al Colegio de Procuradores, así como a las partes interesadas y se comunicará al Juzgado o Tribunal que esté conociendo del proceso, o al Juez Decano de la localidad si aquél no se hubiera iniciado.

Sheet Violencia de género
C8: Nº solicitudes | D8: Nº reconocimientos de derecho
B9: ANDALUCÍA | C9: =ANDALUCÍA!H23 -> 15655 | D9: =ANDALUCÍA!H24 -> 15421
B10: Almería | C10: =Almería!H23 -> 2222 | D10: =Almería!H24 -> 2154
B11: Cádiz | C11: =Cádiz!H23 -> 2036 | D11: =Cádiz!H24 -> 2036
B12: Córdoba | C12: =Córdoba!H23 -> 1583 | D12: =Córdoba!H24 -> 1583
B13: Granada | C13: =Granada!H23 -> 1569 | D13: =Granada!H24 -> 1568
B14: Huelva | C14: =Huelva!H23 -> 898 | D14: =Huelva!H24 -> 898
B15: Jaén | C15: =Jaén!H23 -> 1086 | D15: =Jaén!H24 -> 1086
B16: Málaga | C16: =Málaga!H24 -> 4315 | D16: =Málaga!H25 -> 4314
B17: Sevilla | C17: =Sevilla!H23 -> 1946 | D17: =Sevilla!H24 -> 1782
B18: ARAGÓN | C18: =ARAGÓN!H23 -> - | D18: =ARAGÓN!H24 -> -
B19: Huesca | C19: =Huesca!H23 -> 359 VICTIMAS + 358 PENAL | D19: =Huesca!H24 -> 359 VICTIMAS/315 PENAL
B20: Teruel | C20: =Teruel!H24 -> 206 VICTIMAS+16 PENALES | D20: =Teruel!H25 -> 206 VICTIMAS /15 PENALES
B21: Zaragoza | C21: =Zaragoza!H23 -> 1.389 VICTIMAS + 2.021 PENAL | D21: =Zaragoza!H24 -> 1.389 VICTIMAS/1.728 PENAL
B22: ASTURIAS, PRINCIPADO DE | C22: ='ASTURIAS, PRINCIPADO DE'!H23 -> 0 | D22: ='ASTURIAS, PRINCIPADO DE'!H24 -> 0
B23: CANARIAS | C23: =CANARIAS!H23 -> 4718 | D23: =CANARIAS!H24 -> 4650
B24: Gran Canaria | C24: ='Gran Canaria'!H23 -> No disponible (*) | D24: ='Gran Canaria'!H24 -> No disponible (*)
B25: Lanzarote | C25: =Lanzarote!H23 -> No disponible (*) | D25: =Lanzarote!H24 -> No disponible (*)
B26: Tenerife | C26: =Tenerife!H23 -> 3562 | D26: =Tenerife!H24 -> 3562
B27: CANTABRIA | C27: =CANTABRIA!H23 -> 1138 | D27: =CANTABRIA!H24 -> 1008
B28: CATALUÑA | C28: =CATALUÑA!H23 -> - | D28: =CATALUÑA!H24 -> -
B29: Barcelona | C29: =Barcelona!H23 -> - | D29: =Barcelona!H24 -> -
B30: Girona | C30: =Girona!H23 -> - | D30: =Girona!H24 -> -
B31: Lleida | C31: =Lleida!H23 -> - | D31: =Lleida!H24 -> -
B32: Tarragona | C32: =Tarragona!H23 -> - | D32: =Tarragona!H24 -> -
B33: Terras del'Ebre | C33: ='Terres de l''Ebre'!H23 -> - | D33: ='Terres de l''Ebre'!H24 -> -
B34: COMUNITAT VALENCIANA | C34: ='C. VALENCIANA'!H23 -> 12686 | D34: ='C. VALENCIANA'!H24 -> 12686
B35: Alicante/Alacant | C35: =Alicante_Alacant!H23 -> 4941 | D35: =Alicante_Alacant!H24 -> 4941
B36: Castellón/Castelló | C36: =Castellón_Castelló!H23 -> 1887 | D36: =Castellón_Castelló!H24 -> 1887
B37: Valencia/València | C37: =Valencia_València!H23 -> 5858 | D37: =Valencia_València!H24 -> 5858
B38: GALICIA | C38: =GALICIA!H23 -> 4065 | D38: =GALICIA!H24 -> 4065
B39: A Coruña | C39: ='Coruña, A'!H23 -> 1546 | D39: ='Coruña, A'!H24 -> 1546
B40: Lugo | C40: =Lugo!H23 -> 557 | D40: =Lugo!H24 -> 557
B41: Ourense | C41: =Ourense!H23 -> 594 | D41: =Ourense!H24 -> 594
B42: Pontevedra | C42: =Pontevedra!H23 -> 1368 | D42: =Pontevedra!H24 -> 1368
B43: MADRID, COMUNIDAD DE | C43: ='MADRID, COMUNIDAD DE'!H23 -> 9782 | D43: ='MADRID, COMUNIDAD DE'!H24 -> 7951
B44: NAVARRA, COMUNIDAD FORAL DE | C44: ='NAVARRA, COMUNIDAD FORAL DE'!H23 -> 1643 | D44: ='NAVARRA, COMUNIDAD FORAL DE'!H24 -> 1643
B45: PAÍS VASCO | C45: ='PAÍS VASCO'!H23 -> 4078 | D45: ='PAÍS VASCO'!H24 -> 4078
B46: Araba/Álava | C46: =Araba_Álava!$H$23 -> 1263 | D46: =Araba_Álava!$H$24 -> 1263
B47: Bizkaia | C47: =Bizkaia!H23 -> 1429 | D47: =Bizkaia!H24 -> 1429
B48: Gipuzkoa | C48: =Guipuzkoa!H23 -> 1386 | D48: =Guipuzkoa!H24 -> 1386
B49: RIOJA, LA | C49: ='RIOJA, LA'!H23 -> 623 | D49: ='RIOJA, LA'!H24 -> 660
B50: Ámbito MINISTERIO DE JUSTICIA | C50: ='Ámbito MINISTERIO'!H22 -> - | D50: ='Ámbito MINISTERIO'!H23 -> -

Sheet Impugnaciones
C8: Nº resoluciones impugnadas | D8: Admitidas | E8: Remitidas al juzgado o tribunal para su resolución | F8: Pendientes de remitir al juzgado o tribunal para su resolución
B9: ANDALUCÍA | C9: =ANDALUCÍA!B31 -> 1622 | D9: =ANDALUCÍA!C31 -> 1622 | E9: =ANDALUCÍA!D31 -> 1595 | F9: =ANDALUCÍA!E31 -> 27
B10: Almería | C10: =Almería!B31 -> 70 | D10: =Almería!C31 -> 70 | E10: =Almería!D31 -> 70 | F10: =Almería!E31 -> 0
B11: Cádiz | C11: =Cádiz!B31 -> 66 | D11: =Cádiz!C31 -> 66 | E11: =Cádiz!D31 -> 66 | F11: =Cádiz!E31 -> 0
B12: Córdoba | C12: =Córdoba!B31 -> 114 | D12: =Córdoba!C31 -> 114 | E12: =Córdoba!D31 -> 111 | F12: =Córdoba!E31 -> 3
B13: Granada | C13: =Granada!B31 -> 193 | D13: =Granada!C31 -> 193 | E13: =Granada!D31 -> 193 | F13: =Granada!E31 -> 0
B14: Huelva | C14: =Huelva!B31 -> 100 | D14: =Huelva!C31 -> 100 | E14: =Huelva!D31 -> 100 | F14: =Huelva!E31 -> 0
B15: Jaén | C15: =Jaén!B31 -> 294 | D15: =Jaén!C31 -> 294 | E15: =Jaén!D31 -> 270 | F15: =Jaén!E31 -> 24
B16: Málaga | C16: =Málaga!B33 -> 405 | D16: =Málaga!C33 -> 405 | E16: =Málaga!D33 -> 405 | F16: =Málaga!E33 -> 0
B17: Sevilla | C17: =Sevilla!B31 -> 380 | D17: =Sevilla!C31 -> 380 | E17: =Sevilla!D31 -> 380 | F17: =Sevilla!E31 -> 0
B18: ARAGÓN | C18: =ARAGÓN!B31 -> 259 | D18: =ARAGÓN!C31 -> 254 | E18: =ARAGÓN!D31 -> 259 | F18: =ARAGÓN!E31 -> -
B19: Huesca | C19: =Huesca!B31 -> 41 | D19: =Huesca!C31 -> 36 | E19: =Huesca!D31 -> 41 | F19: =Huesca!E31 -> -
B20: Teruel | C20: =Teruel!B32 -> 19 | D20: =Teruel!C32 -> 19 | E20: =Teruel!D32 -> 19 | F20: =Teruel!E32 -> 0
B21: Zaragoza | C21: =Zaragoza!B31 -> 199 | D21: =Zaragoza!C31 -> 199 | E21: =Zaragoza!D31 -> 199 | F21: =Zaragoza!E31 -> 0
B22: ASTURIAS, PRINCIPADO DE | C22: ='ASTURIAS, PRINCIPADO DE'!B31 -> 0 | D22: ='ASTURIAS, PRINCIPADO DE'!C31 -> 0 | E22: ='ASTURIAS, PRINCIPADO DE'!D31 -> 0 | F22: ='ASTURIAS, PRINCIPADO DE'!E31 -> 0
B23: CANARIAS | C23: =CANARIAS!B31 -> 412 | D23: =CANARIAS!C31 -> 357 | E23: =CANARIAS!D31 -> 340 | F23: =CANARIAS!E31 -> 17
B24: Gran Canaria | C24: ='Gran Canaria'!B31 -> 200 | D24: ='Gran Canaria'!C31 -> 146 | E24: ='Gran Canaria'!D31 -> 133 | F24: ='Gran Canaria'!E31 -> 13
B25: Lanzarote | C25: =Lanzarote!B31 -> 50 | D25: =Lanzarote!C31 -> 49 | E25: =Lanzarote!D31 -> 48 | F25: =Lanzarote!E31 -> 1
B26: Tenerife | C26: =Tenerife!B31 -> 154 | D26: =Tenerife!C31 -> 154 | E26: =Tenerife!D31 -> 154 | F26: =Tenerife!E31 -> 0
B27: CANTABRIA | C27: =CANTABRIA!B31 -> 100 | D27: =CANTABRIA!C31 -> 100 | E27: =CANTABRIA!D31 -> 100 | F27: =CANTABRIA!E31 -> 0
B28: CATALUÑA | C28: =CATALUÑA!B31 -> 1997 | D28: =CATALUÑA!C31 -> - | E28: =CATALUÑA!D31 -> - | F28: =CATALUÑA!E31 -> -
B29: Barcelona | C29: =Barcelona!B31 -> 1500 | D29: =Barcelona!C31 -> - | E29: =Barcelona!D31 -> - | F29: =Barcelona!E31 -> -
B30: Girona | C30: =Girona!B31 -> 108 | D30: =Girona!C31 -> - | E30: =Girona!D31 -> - | F30: =Girona!E31 -> -
B31: Lleida | C31: =Lleida!B31 -> 438 | D31: =Lleida!C31 -> - | E31: =Lleida!D31 -> - | F31: =Lleida!E31 -> -
B32: Tarragona | C32: =Tarragona!B31 -> 232 | D32: =Tarragona!C31 -> - | E32: =Tarragona!D31 -> - | F32: =Tarragona!E31 -> -
B33: Terras del'Ebre | C33: ='Terres de l''Ebre'!B31 -> 218 | D33: ='Terres de l''Ebre'!C31 -> - | E33: ='Terres de l''Ebre'!D31 -> - | F33: ='Terres de l''Ebre'!E31 -> -
B34: COMUNITAT VALENCIANA | C34: ='C. VALENCIANA'!B31 -> 1950 | D34: ='C. VALENCIANA'!C31 -> 1950 | E34: ='C. VALENCIANA'!D31 -> 1950 | F34: ='C. VALENCIANA'!E31 -> 0
B35: Alicante/Alacant | C35: =Alicante_Alacant!B31 -> 508 | D35: =Alicante_Alacant!C31 -> 508 | E35: =Alicante_Alacant!D31 -> 508 | F35: =Alicante_Alacant!E31 -> 0
B36: Castellón/Castelló | C36: =Castellón_Castelló!B31 -> 199 | D36: =Castellón_Castelló!C31 -> 199 | E36: =Castellón_Castelló!D31 -> 199 | F36: =Castellón_Castelló!E31 -> 0
B37: Valencia/València | C37: =Valencia_València!B31 -> 1243 | D37: =Valencia_València!C31 -> 1243 | E37: =Valencia_València!D31 -> 1243 | F37: =Valencia_València!E31 -> 0
B38: GALICIA | C38: =GALICIA!B31 -> 1336 | D38: =GALICIA!C31 -> 1336 | E38: =GALICIA!D31 -> 1316 | F38: =GALICIA!E31 -> 20
B39: Coruña | C39: ='Coruña, A'!B31 -> 310 | D39: ='Coruña, A'!C31 -> 310 | E39: ='Coruña, A'!D31 -> 310 | F39: ='Coruña, A'!E31 -> 0
B40: Lugo | C40: =Lugo!B31 -> 300 | D40: =Lugo!C31 -> 300 | E40: =Lugo!D31 -> 280 | F40: =Lugo!E31 -> 20
B41: Ourense | C41: =Ourense!B31 -> 132 | D41: =Ourense!C31 -> 132 | E41: =Ourense!D31 -> 132 | F41: =Ourense!E31 -> 0
B42: Pontevedra | C42: =Pontevedra!B31 -> 594 | D42: =Pontevedra!C31 -> 594 | E42: =Pontevedra!D31 -> 594 | F42: =Pontevedra!E31 -> 0
B43: MADRID, COMUNIDAD DE | C43: ='MADRID, COMUNIDAD DE'!B31 -> 1356 | D43: ='MADRID, COMUNIDAD DE'!C31 -> 1356 | E43: ='MADRID, COMUNIDAD DE'!D31 -> 1303 | F43: ='MADRID, COMUNIDAD DE'!E31 -> 53
B44: NAVARRA, COMUNIDAD FORAL DE | C44: ='NAVARRA, COMUNIDAD FORAL DE'!B31 -> 160 | D44: ='NAVARRA, COMUNIDAD FORAL DE'!C31 -> 160 | E44: ='NAVARRA, COMUNIDAD FORAL DE'!D31 -> 160 | F44: ='NAVARRA, COMUNIDAD FORAL DE'!E31 -> 0
B45: PAÍS VASCO | C45: ='PAÍS VASCO'!B31 -> 464 | D45: ='PAÍS VASCO'!C31 -> 448 | E45: ='PAÍS VASCO'!D31 -> 464 | F45: ='PAÍS VASCO'!E31 -> 0
B46: Araba/Álava | C46: =Araba_Álava!$B$31 -> 67 | D46: =Araba_Álava!$B$31 -> 67 | E46: =Araba_Álava!$B$31 -> 67 | F46: =Araba_Álava!$B$31 -> 67
B47: Bizkaia | C47: =Bizkaia!B31 -> 304 | D47: =Bizkaia!C31 -> 288 | E47: =Bizkaia!D31 -> 304 | F47: =Bizkaia!E31 -> 0
B48: Gipuzkoa | C48: =Guipuzkoa!B31 -> 93 | D48: =Guipuzkoa!C31 -> 93 | E48: =Guipuzkoa!D31 -> 93 | F48: =Guipuzkoa!E31 -> 0
B49: RIOJA, LA | C49: ='RIOJA, LA'!B31 -> 58 | D49: ='RIOJA, LA'!C31 -> 57 | E49: ='RIOJA, LA'!D31 -> 58 | F49: ='RIOJA, LA'!E31 -> 0
B50: Ámbito MINISTERIO DE JUSTICIA | C50: ='Ámbito MINISTERIO'!B30 -> - | D50: ='Ámbito MINISTERIO'!C30 -> - | E50: ='Ámbito MINISTERIO'!D30 -> - | F50: ='Ámbito MINISTERIO'!E30 -> -

Sheet ANDALUCÍA
B12: Nº de solicitudes registradas | D12: Inadmitidas ab initio(1) | E12: Denegadas tras tramitación | F12: Resueltas | H12: Pendientes
F14: Notificadas al órgano(2) | G14: Pendientes de notificar al órgano(2)
B15: Procedentes de colegios profesionales | C15: Procedentes de juzgados o decanatos
B16: 195499 | C16: 0 | D16: 6297 | E16: 20854 | F16: 174773 | G16: 320 | H16: 19759
B17: (1) Normalmente se produce la inadmisión por la falta de presentación de la documentación requerida en plazo concedido a tal efecto.
B18: (2) La obligación de notificación aparece expresamente recogida en el art 17 de la Ley que regula esta materia que dice: La resolución se notificará en el plazo común de tres días al solicitante, al Colegio de Abogados y, en su caso, al Colegio de Procuradores, así como a las partes interesadas y se comunicará al Juzgado o Tribunal que esté conociendo del proceso, o al Juez Decano de la localidad si aquél no se hubiera iniciado.
B20: Tiempo medio (en días) entre registro y notificación al órgano de la resolución | H20: 43
B22: Procesos judiciales y procedimientos administrativos que tengan causa directa o indirecta en la violencia de género
B23: Nº solicitudes | H23: 15655
B24: Nº reconocimientos de derecho | H24: 15421
B26: Para los casos en los que existe un pleito en trámite
B27: Tiempo medio (en días) que transcurre entre el registro de la solicitud y la comunicación de la resolución al órgano | H27: 44
B29: Impugnaciones
B30: Nº resoluciones impugnadas | C30: Admitidas | D30: Remitidas al juzgado o tribunal para su resolución | E30: Pendientes de remitir al juzgado o tribunal para su resolución
B31: 1622 | C31: 1622 | D31: 1595 | E31: 27

Sheet Almería
B12: Nº de solicitudes registradas | D12: Inadmitidas ab initio(1) | E12: Denegadas tras tramitación | F12: Resueltas | H12: Pendientes
F14: Notificadas al órgano(2) | G14: Pendientes de notificar al órgano(2)
B15: Procedentes de colegios profesionales | C15: Procedentes de juzgados o decanatos
B16: 20363 | C16: 0 | D16: 0 | E16: 1598 | F16: 20363 | G16: 0 | H16: 0
B17: (1) Normalmente se produce la inadmisión por la falta de presentación de la documentación requerida en plazo concedido a tal efecto.
B18: (2) La obligación de notificación aparece expresamente recogida en el art 17 de la Ley que regula esta materia que dice: La resolución se notificará en el plazo común de tres días al solicitante, al Colegio de Abogados y, en su caso, al Colegio de Procuradores, así como a las partes interesadas y se comunicará al Juzgado o Tribunal que esté conociendo del proceso, o al Juez Decano de la localidad si aquél no se hubiera iniciado.
B20: Tiempo medio (en días) entre registro y notificación al órgano de la resolución | H20: 30
B22: Procesos judiciales y procedimientos administrativos que tengan causa directa o indirecta en la violencia de género
B23: Nº solicitudes | H23: 2222
B24: Nº reconocimientos de derecho | H24: 2154
B26: Para los casos en los que existe un pleito en trámite
B27: Tiempo medio (en días) que transcurre entre el registro de la solicitud y la comunicación de la resolución al órgano | H27: 30
B29: Impugnaciones
B30: Nº resoluciones impugnadas | C30: Admitidas | D30: Remitidas al juzgado o tribunal para su resolución | E30: Pendientes de remitir al juzgado o tribunal para su resolución
B31: 70 | C31: 70 | D31: 70 | E31: 0

Sheet Cádiz
B12: Nº de solicitudes registradas | D12: Inadmitidas ab initio(1) | E12: Denegadas tras tramitación | F12: Resueltas | H12: Pendientes
F14: Notificadas al órgano(2) | G14: Pendientes de notificar al órgano(2)
B15: Procedentes de colegios profesionales | C15: Procedentes de juzgados o decanatos
B16: 31836 | C16: 0 | D16: 146 | E16: 3281 | F16: 31836 | G16: 0 | H16: 0
B17: (1) Normalmente se produce la inadmisión por la falta de presentación de la documentación requerida en plazo concedido a tal efecto.
B18: (2) La obligación de notificación aparece expresamente recogida en el art 17 de la Ley que regula esta materia que dice: La resolución se notificará en el plazo común de tres días al solicitante, al Colegio de Abogados y, en su caso, al Colegio de Procuradores, así como a las partes interesadas y se comunicará al Juzgado o Tribunal que esté conociendo del proceso, o al Juez Decano de la localidad si aquél no se hubiera iniciado.
B20: Tiempo medio (en días) entre registro y notificación al órgano de la resolución | H20: 60
B22: Procesos judiciales y procedimientos administrativos que tengan causa directa o indirecta en la violencia de género
B23: Nº solicitudes | H23: 2036
B24: Nº reconocimientos de derecho | H24: 2036
B26: Para los casos en los que existe un pleito en trámite
B27: Tiempo medio (en días) que transcurre entre el registro de la solicitud y la comunicación de la resolución al órgano | H27: 60
B29: Impugnaciones
B30: Nº resoluciones impugnadas | C30: Admitidas | D30: Remitidas al juzgado o tribunal para su resolución | E30: Pendientes de remitir al juzgado o tribunal para su resolución
B31: 66 | C31: 66 | D31: 66 | E31: 0

Sheet Córdoba
B12: Nº de solicitudes registradas | D12: Inadmitidas ab initio(1) | E12: Denegadas tras tramitación | F12: Resueltas | H12: Pendientes
F14: Notificadas al órgano(2) | G14: Pendientes de notificar al órgano(2)
B15: Procedentes de colegios profesionales | C15: Procedentes de juzgados o decanatos
B16: 13460 | C16: - | D16: 691 | E16: 1451 | F16: 13460 | G16: - | H16: -
B17: (1) Normalmente se produce la inadmisión por la falta de presentación de la documentación requerida en plazo concedido a tal efecto.
B18: (2) La obligación de notificación aparece expresamente recogida en el art 17 de la Ley que regula esta materia que dice: La resolución se notificará en el plazo común de tres días al solicitante, al Colegio de Abogados y, en su caso, al Colegio de Procuradores, así como a las partes interesadas y se comunicará al Juzgado o Tribunal que esté conociendo del proceso, o al Juez Decano de la localidad si aquél no se hubiera iniciado.
B20: Tiempo medio (en días) entre registro y notificación al órgano de la resolución | H20: 22
B22: Procesos judiciales y procedimientos administrativos que tengan causa directa o indirecta en la violencia de género
B23: Nº solicitudes | H23: 1583
B24: Nº reconocimientos de derecho | H24: 1583
B26: Para los casos en los que existe un pleito en trámite
B27: Tiempo medio (en días) que transcurre entre el registro de la solicitud y la comunicación de la resolución al órgano | H27: 22
B29: Impugnaciones
B30: Nº resoluciones impugnadas | C30: Admitidas | D30: Remitidas al juzgado o tribunal para su resolución | E30: Pendientes de remitir al juzgado o tribunal para su resolución
B31: 114 | C31: 114 | D31: 111 | E31: 3

Sheet Granada
B12: Nº de solicitudes registradas | D12: Inadmitidas ab initio(1) | E12: Denegadas tras tramitación | F12: Resueltas | H12: Pendientes
F14: Notificadas al órgano(2) | G14: Pendientes de notificar al órgano(2)
B15: Procedentes de colegios profesionales | C15: Procedentes de juzgados o decanatos
B16: 21682 | C16: - | D16: 554 | E16: 1848 | F16: 19280 | G16: 0 | H16: 0
B17: (1) Normalmente se produce la inadmisión por la falta de presentación de la documentación requerida en plazo concedido a tal efecto.
B18: (2) La obligación de notificación aparece expresamente recogida en el art 17 de la Ley que regula esta materia que dice: La resolución se notificará en el plazo común de tres días al solicitante, al Colegio de Abogados y, en su caso, al Colegio de Procuradores, así como a las partes interesadas y se comunicará al Juzgado o Tribunal que esté conociendo del proceso, o al Juez Decano de la localidad si aquél no se hubiera iniciado.
B20: Tiempo medio (en días) entre registro y notificación al órgano de la resolución | H20: 45
B22: Procesos judiciales y procedimientos administrativos que tengan causa directa o indirecta en la violencia de género
B23: Nº solicitudes | H23: 1569
B24: Nº reconocimientos de derecho | H24: 1568
B26: Para los casos en los que existe un pleito en trámite
B27: Tiempo medio (en días) que transcurre entre el registro de la solicitud y la comunicación de la resolución al órgano | H27: 45
B29: Impugnaciones
B30: Nº resoluciones impugnadas | C30: Admitidas | D30: Remitidas al juzgado o tribunal para su resolución | E30: Pendientes de remitir al juzgado o tribunal para su resolución
B31: 193 | C31: 193 | D31: 193 | E31: 0

Sheet Huelva
B12: Nº de solicitudes registradas | D12: Inadmitidas ab initio(1) | E12: Denegadas tras tramitación | F12: Resueltas | H12: Pendientes
F14: Notificadas al órgano(2) | G14: Pendientes de notificar al órgano(2)
B15: Procedentes de colegios profesionales | C15: Procedentes de juzgados o decanatos
B16: 9838 | C16: No se reciben | D16: 191 | E16: 1147 | F16: 10534 | G16: - | H16: -
B17: (1) Normalmente se produce la inadmisión por la falta de presentación de la documentación requerida en plazo concedido a tal efecto.
B18: (2) La obligación de notificación aparece expresamente recogida en el art 17 de la Ley que regula esta materia que dice: La resolución se notificará en el plazo común de tres días al solicitante, al Colegio de Abogados y, en su caso, al Colegio de Procuradores, así como a las partes interesadas y se comunicará al Juzgado o Tribunal que esté conociendo del proceso, o al Juez Decano de la localidad si aquél no se hubiera iniciado.
B20: Tiempo medio (en días) entre registro y notificación al órgano de la resolución | H20: 45
B22: Procesos judiciales y procedimientos administrativos que tengan causa directa o indirecta en la violencia de género
B23: Nº solicitudes | H23: 898
B24: Nº reconocimientos de derecho | H24: 898
B26: Para los casos en los que existe un pleito en trámite
B27: Tiempo medio (en días) que transcurre entre el registro de la solicitud y la comunicación de la resolución al órgano | H27: 45
B29: Impugnaciones
B30: Nº resoluciones impugnadas | C30: Admitidas | D30: Remitidas al juzgado o tribunal para su resolución | E30: Pendientes de remitir al juzgado o tribunal para su resolución
B31: 100 | C31: 100 | D31: 100 | E31: 0

Sheet Jaén
B12: Nº de solicitudes registradas | D12: Inadmitidas ab initio(1) | E12: Denegadas tras tramitación | F12: Resueltas | H12: Pendientes
F14: Notificadas al órgano(2) | G14: Pendientes de notificar al órgano(2)
B15: Procedentes de colegios profesionales | C15: Procedentes de juzgados o decanatos
B16: 10680 | C16: - | D16: 634 | E16: 2807 | F16: 11206 | G16: 320 | H16: 320
B17: (1) Normalmente se produce la inadmisión por la falta de presentación de la documentación requerida en plazo concedido a tal efecto.
B18: (2) La obligación de notificación aparece expresamente recogida en el art 17 de la Ley que regula esta materia que dice: La resolución se notificará en el plazo común de tres días al solicitante, al Colegio de Abogados y, en su caso, al Colegio de Procuradores, así como a las partes interesadas y se comunicará al Juzgado o Tribunal que esté conociendo del proceso, o al Juez Decano de la localidad si aquél no se hubiera iniciado.
B20: Tiempo medio (en días) entre registro y notificación al órgano de la resolución | H20: 25
B22: Procesos judiciales y procedimientos administrativos que tengan causa directa o indirecta en la violencia de género
B23: Nº solicitudes | H23: 1086
B24: Nº reconocimientos de derecho | H24: 1086
B26: Para los casos en los que existe un pleito en trámite
B27: Tiempo medio (en días) que transcurre entre el registro de la solicitud y la comunicación de la resolución al órgano | H27: 30
B29: Impugnaciones
B30: Nº resoluciones impugnadas | C30: Admitidas | D30: Remitidas al juzgado o tribunal para su resolución | E30: Pendientes de remitir al juzgado o tribunal para su resolución
B31: 294 | C31: 294 | D31: 270 | E31: 24

Sheet Málaga
B12: Nº de solicitudes registradas | D12: Inadmitidas ab initio(1) | E12: Denegadas tras tramitación | F12: Resueltas | H12: Pendientes
F14: Notificadas al órgano(2) | G14: Pendientes de notificar al órgano(2)
B15: Procedentes de colegios profesionales | C15: Procedentes de juzgados o decanatos
B16: 38406 | C16: 0 | D16: 0 | E16: 4846 | F16: 38165 | G16: 0 | H16: 0
B17: (1) Normalmente se produce la inadmisión por la falta de presentación de la documentación requerida en plazo concedido a tal efecto.
B18: (2) La obligación de notificación aparece expresamente recogida en el art 17 de la Ley que regula esta materia que dice: La resolución se notificará en el plazo común de tres días al solicitante, al Colegio de Abogados y, en su caso, al Colegio de Procuradores, así como a las partes interesadas y se comunicará al Juzgado o Tribunal que esté conociendo del proceso, o al Juez Decano de la localidad si aquél no se hubiera iniciado.
B20: Tiempo medio (en días) entre registro y notificación al órgano de la resolución | H20: 30
B21: * Se ha de tener en cuenta la suspensión de plazo.
B23: Procesos judiciales y procedimientos administrativos que tengan causa directa o indirecta en la violencia de género
B24: Nº solicitudes | H24: 4315
B25: Nº reconocimientos de derecho | H25: 4314
B27: Para los casos en los que existe un pleito en trámite
B28: Tiempo medio (en días) que transcurre entre el registro de la solicitud y la comunicación de la resolución al órgano | H28: -
B29: * Se ha de tener en cuenta la suspensión de plazo.
B31: Impugnaciones
B32: Nº resoluciones impugnadas | C32: Admitidas | D32: Remitidas al juzgado o tribunal para su resolución | E32: Pendientes de remitir al juzgado o tribunal para su resolución
B33: 405 | C33: 405 | D33: 405 | E33: 0

Sheet Sevilla
B12: Nº de solicitudes registradas | D12: Inadmitidas ab initio(1) | E12: Denegadas tras tramitación | F12: Resueltas | H12: Pendientes
F14: Notificadas al órgano(2) | G14: Pendientes de notificar al órgano(2)
B15: Procedentes de colegios profesionales | C15: Procedentes de juzgados o decanatos
B16: 49234 | C16: - | D16: 4081 | E16: 3876 | F16: 29929 | G16: - | H16: 19439
B17: (1) Normalmente se produce la inadmisión por la falta de presentación de la documentación requerida en plazo concedido a tal efecto.
B18: (2) La obligación de notificación aparece expresamente recogida en el art 17 de la Ley que regula esta materia que dice: La resolución se notificará en el plazo común de tres días al solicitante, al Colegio de Abogados y, en su caso, al Colegio de Procuradores, así como a las partes interesadas y se comunicará al Juzgado o Tribunal que esté conociendo del proceso, o al Juez Decano de la localidad si aquél no se hubiera iniciado.
B20: Tiempo medio (en días) entre registro y notificación al órgano de la resolución | H20: 90
B22: Procesos judiciales y procedimientos administrativos que tengan causa directa o indirecta en la violencia de género
B23: Nº solicitudes | H23: 1946
B24: Nº reconocimientos de derecho | H24: 1782
B26: Para los casos en los que existe un pleito en trámite
B27: Tiempo medio (en días) que transcurre entre el registro de la solicitud y la comunicación de la resolución al órgano | H27: 90
B29: Impugnaciones
B30: Nº resoluciones impugnadas | C30: Admitidas | D30: Remitidas al juzgado o tribunal para su resolución | E30: Pendientes de remitir al juzgado o tribunal para su resolución
B31: 380 | C31: 380 | D31: 380 | E31: 0

Sheet ARAGÓN
B12: Nº de solicitudes registradas | D12: Inadmitidas ab initio(1) | E12: Denegadas tras tramitación | F12: Resueltas | H12: Pendientes
F14: Notificadas al órgano(2) | G14: Pendientes de notificar al órgano(2)
B15: Procedentes de colegios profesionales | C15: Procedentes de juzgados o decanatos
B16: =Zaragoza!B16+Huesca!B16+Teruel!B16 -> 14762 | C16: - | D16: - | E16: =Zaragoza!E16+Huesca!E16+Teruel!E16 -> 2866 | F16: =Zaragoza!F16+Huesca!F16+Teruel!F16 -> 14242 | G16: - | H16: =Zaragoza!H16+Huesca!H16+Teruel!H16 -> 520
B17: (1) Normalmente se produce la inadmisión por la falta de presentación de la documentación requerida en plazo concedido a tal efecto.
B18: (2) La obligación de notificación aparece expresamente recogida en el art 17 de la Ley que regula esta materia que dice: La resolución se notificará en el plazo común de tres días al solicitante, al Colegio de Abogados y, en su caso, al Colegio de Procuradores, así como a las partes interesadas y se comunicará al Juzgado o Tribunal que esté conociendo del proceso, o al Juez Decano de la localidad si aquél no se hubiera iniciado.
B20: Tiempo medio (en días) entre registro y notificación al órgano de la resolución | H20: 23
B22: Procesos judiciales y procedimientos administrativos que tengan causa directa o indirecta en la violencia de género
B23: Nº solicitudes | H23: -
B24: Nº reconocimientos de derecho | H24: -
B26: Para los casos en los que existe un pleito en trámite
B27: Tiempo medio (en días) que transcurre entre el registro de la solicitud y la comunicación de la resolución al órgano | H27: 23
B29: Impugnaciones
B30: Nº resoluciones impugnadas | C30: Admitidas | D30: Remitidas al juzgado o tribunal para su resolución | E30: Pendientes de remitir al juzgado o tribunal para su resolución
B31: =Huesca!B31+Teruel!B32+Zaragoza!B31 -> 259 | C31: =Huesca!C31+Teruel!C32+Zaragoza!C31 -> 254 | D31: =Huesca!D31+Teruel!D32+Zaragoza!D31 -> 259 | E31: -

Sheet Huesca
B12: Nº de solicitudes registradas | D12: Inadmitidas ab initio(1) | E12: Denegadas tras tramitación | F12: Resueltas | H12: Pendientes
F14: Notificadas al órgano(2) | G14: Pendientes de notificar al órgano(2)
B15: Procedentes de colegios profesionales | C15: Procedentes de juzgados o decanatos
B16: 2130 | C16: - | D16: - | E16: 511 | F16: 2086 | G16: - | H16: 44
B17: (1) Normalmente se produce la inadmisión por la falta de presentación de la documentación requerida en plazo concedido a tal efecto.
B18: (2) La obligación de notificación aparece expresamente recogida en el art 17 de la Ley que regula esta materia que dice: La resolución se notificará en el plazo común de tres días al solicitante, al Colegio de Abogados y, en su caso, al Colegio de Procuradores, así como a las partes interesadas y se comunicará al Juzgado o Tribunal que esté conociendo del proceso, o al Juez Decano de la localidad si aquél no se hubiera iniciado.
B20: Tiempo medio (en días) entre registro y notificación al órgano de la resolución | H20: 20
B22: Procesos judiciales y procedimientos administrativos que tengan causa directa o indirecta en la violencia de género
B23: Nº solicitudes | H23: 359 VICTIMAS + 358 PENAL
B24: Nº reconocimientos de derecho | H24: 359 VICTIMAS/315 PENAL
B26: Para los casos en los que existe un pleito en trámite
B27: Tiempo medio (en días) que transcurre entre el registro de la solicitud y la comunicación de la resolución al órgano | H27: 20
B29: Impugnaciones
B30: Nº resoluciones impugnadas | C30: Admitidas* | D30: Remitidas al juzgado o tribunal para su resolución | E30: Pendientes de remitir al juzgado o tribunal para su resolución
B31: 41 | C31: 36 | D31: 41 | E31: -
B32: (*) 8 estimadas y 28 desestimadas

Sheet Teruel
B12: Nº de solicitudes registradas | D12: Inadmitidas ab initio(1) | E12: Denegadas tras tramitación | F12: Resueltas* | H12: Pendientes
F14: Notificadas al órgano(2) | G14: Pendientes de notificar al órgano(2)
B15: Procedentes de colegios profesionales | C15: Procedentes de juzgados o decanatos
B16: 1309 | C16: - | D16: - | E16: 238 | F16: 1282 | G16: - | H16: 27
B17: (1) Normalmente se produce la inadmisión por la falta de presentación de la documentación requerida en plazo concedido a tal efecto.
B18: (2) La obligación de notificación aparece expresamente recogida en el art 17 de la Ley que regula esta materia que dice: La resolución se notificará en el plazo común de tres días al solicitante, al Colegio de Abogados y, en su caso, al Colegio de Procuradores, así como a las partes interesadas y se comunicará al Juzgado o Tribunal que esté conociendo del proceso, o al Juez Decano de la localidad si aquél no se hubiera iniciado.
B19: (*)1.244 resueltas.
B21: Tiempo medio (en días) entre registro y notificación al órgano de la resolución | H21: 20
B23: Procesos judiciales y procedimientos administrativos que tengan causa directa o indirecta en la violencia de género
B24: Nº solicitudes | H24: 206 VICTIMAS+16 PENALES
B25: Nº reconocimientos de derecho | H25: 206 VICTIMAS /15 PENALES
B27: Para los casos en los que existe un pleito en trámite
B28: Tiempo medio (en días) que transcurre entre el registro de la solicitud y la comunicación de la resolución al órgano | H28: 20
B30: Impugnaciones
B31: Nº resoluciones impugnadas | C31: Admitidas* | D31: Remitidas al juzgado o tribunal para su resolución | E31: Pendientes de remitir al juzgado o tribunal para su resolución
B32: 19 | C32: 19 | D32: 19 | E32: 0
B33: (*) 1 estimadas y 18 desestimadas

Sheet Zaragoza
B12: Nº de solicitudes registradas | D12: Inadmitidas ab initio(1) | E12: Denegadas tras tramitación | F12: Resueltas | H12: Pendientes
F14: Notificadas al órgano(2) | G14: Pendientes de notificar al órgano(2)
B15: Procedentes de colegios profesionales | C15: Procedentes de juzgados o decanatos
B16: 11323 | C16: - | D16: - | E16: 2117 | F16: 10874 | G16: - | H16: 449
B17: (1) Normalmente se produce la inadmisión por la falta de presentación de la documentación requerida en plazo concedido a tal efecto.
B18: (2) La obligación de notificación aparece expresamente recogida en el art 17 de la Ley que regula esta materia que dice: La resolución se notificará en el plazo común de tres días al solicitante, al Colegio de Abogados y, en su caso, al Colegio de Procuradores, así como a las partes interesadas y se comunicará al Juzgado o Tribunal que esté conociendo del proceso, o al Juez Decano de la localidad si aquél no se hubiera iniciado.
B20: Tiempo medio (en días) entre registro y notificación al órgano de la resolución | H20: 30
B22: Procesos judiciales y procedimientos administrativos que tengan causa directa o indirecta en la violencia de género
B23: Nº solicitudes | H23: 1.389 VICTIMAS + 2.021 PENAL
B24: Nº reconocimientos de derecho | H24: 1.389 VICTIMAS/1.728 PENAL
B26: Para los casos en los que existe un pleito en trámite
B27: Tiempo medio (en días) que transcurre entre el registro de la solicitud y la comunicación de la resolución al órgano | H27: 30
B29: Impugnaciones
B30: Nº resoluciones impugnadas | C30: Admitidas* | D30: Remitidas al juzgado o tribunal para su resolución | E30: Pendientes de remitir al juzgado o tribunal para su resolución
B31: 199 | C31: 199 | D31: 199 | E31: 0
B32: (*) 4 estimadas y 195 desestimadas

Sheet ASTURIAS, PRINCIPADO DE
B12: Nº de solicitudes registradas | D12: Inadmitidas ab initio(1) | E12: Denegadas tras tramitación | F12: Resueltas | H12: Pendientes
F14: Notificadas al órgano(2) | G14: Pendientes de notificar al órgano(2)
B15: Procedentes de colegios profesionales | C15: Procedentes de juzgados o decanatos
C16: - | D16: - | F16: - | G16: - | H16: -
B17: (1) Normalmente se produce la inadmisión por la falta de presentación de la documentación requerida en plazo concedido a tal efecto.
B18: (2) La obligación de notificación aparece expresamente recogida en el art 17 de la Ley que regula esta materia que dice: La resolución se notificará en el plazo común de tres días al solicitante, al Colegio de Abogados y, en su caso, al Colegio de Procuradores, así como a las partes interesadas y se comunicará al Juzgado o Tribunal que esté conociendo del proceso, o al Juez Decano de la localidad si aquél no se hubiera iniciado.
B20: Tiempo medio (en días) entre registro y notificación al órgano de la resolución | H20: -
B22: Procesos judiciales y procedimientos administrativos que tengan causa directa o indirecta en la violencia de género
B23: Nº solicitudes
B24: Nº reconocimientos de derecho
B26: Para los casos en los que existe un pleito en trámite
B27: Tiempo medio (en días) que transcurre entre el registro de la solicitud y la comunicación de la resolución al órgano | H27: -
B29: Impugnaciones
B30: Nº resoluciones impugnadas | C30: Admitidas | D30: Remitidas al juzgado o tribunal para su resolución | E30: Pendientes de remitir al juzgado o tribunal para su resolución

Sheet CANARIAS
B12: Nº de solicitudes registradas | D12: Inadmitidas ab initio(1) | E12: Denegadas tras tramitación | F12: Resueltas | H12: Pendientes
F14: Notificadas al órgano(2) | G14: Pendientes de notificar al órgano(2)
B15: Procedentes de colegios profesionales | C15: Procedentes de juzgados o decanatos
B16: 25048 | C16: 690 | D16: 1406 | E16: 2595 | F16: 694 | G16: 0 | H16: 24
B17: (1) Normalmente se produce la inadmisión por la falta de presentación de la documentación requerida en plazo concedido a tal efecto.
B18: (2) La obligación de notificación aparece expresamente recogida en el art 17 de la Ley que regula esta materia que dice: La resolución se notificará en el plazo común de tres días al solicitante, al Colegio de Abogados y, en su caso, al Colegio de Procuradores, así como a las partes interesadas y se comunicará al Juzgado o Tribunal que esté conociendo del proceso, o al Juez Decano de la localidad si aquél no se hubiera iniciado.
B20: Tiempo medio (en días) entre registro y notificación al órgano de la resolución | H20: 22.81
B22: Procesos judiciales y procedimientos administrativos que tengan causa directa o indirecta en la violencia de género
B23: Nº solicitudes | H23: 4718
B24: Nº reconocimientos de derecho | H24: 4650
B26: Para los casos en los que existe un pleito en trámite
B27: Tiempo medio (en días) que transcurre entre el registro de la solicitud y la comunicación de la resolución al órgano | H27: 22.81
B29: Impugnaciones
B30: Nº resoluciones impugnadas | C30: Admitidas | D30: Remitidas al juzgado o tribunal para su resolución | E30: Pendientes de remitir al juzgado o tribunal para su resolución
B31: 412 | C31: 357 | D31: 340 | E31: 17

Sheet Gran Canaria
B12: Nº de solicitudes registradas | D12: Inadmitidas ab initio(1) | E12: Denegadas tras tramitación | F12: Resueltas | H12: Pendientes
F14: Notificadas al órgano(2) | G14: Pendientes de notificar al órgano(2)
B15: Procedentes de colegios profesionales | C15: Procedentes de juzgados o decanatos
B16: 8888 | C16: 0 | D16: 116 | E16: 943 | F16: Todas aquellas en las que había procedimiento judicial en trámite. | G16: 0 | H16: 0
B17: (1) Normalmente se produce la inadmisión por la falta de presentación de la documentación requerida en plazo concedido a tal efecto.
B18: (2) La obligación de notificación aparece expresamente recogida en el art 17 de la Ley que regula esta materia que dice: La resolución se notificará en el plazo común de tres días al solicitante, al Colegio de Abogados y, en su caso, al Colegio de Procuradores, así como a las partes interesadas y se comunicará al Juzgado o Tribunal que esté conociendo del proceso, o al Juez Decano de la localidad si aquél no se hubiera iniciado.
B20: Tiempo medio (en días) entre registro y notificación al órgano de la resolución | H20: 14.75
B22: Procesos judiciales y procedimientos administrativos que tengan causa directa o indirecta en la violencia de género
B23: Nº solicitudes | H23: No disponible (*)
B24: Nº reconocimientos de derecho | H24: No disponible (*)
B26: Para los casos en los que existe un pleito en trámite
B27: Tiempo medio (en días) que transcurre entre el registro de la solicitud y la comunicación de la resolución al órgano | H27: 14.75
B29: Impugnaciones
B30: Nº resoluciones impugnadas | C30: Admitidas | D30: Remitidas al juzgado o tribunal para su resolución | E30: Pendientes de remitir al juzgado o tribunal para su resolución
B31: 200 | C31: 146 | D31: 133 | E31: 13
B33: (*)El aplicativo informático no permite disponer de esos datos.

Sheet Lanzarote
B12: Nº de solicitudes registradas | D12: Inadmitidas ab initio(1) | E12: Denegadas tras tramitación | F12: Resueltas | H12: Pendientes
F14: Notificadas al órgano(2) | G14: Pendientes de notificar al órgano(2)
B15: Procedentes de colegios profesionales | C15: Procedentes de juzgados o decanatos
B16: 1427 | C16: 0 | D16: 111 | E16: 151 | F16: Todas aquellas en las que había procedimiento judicial en trámite. | G16: 0 | H16: 24
B17: (1) Normalmente se produce la inadmisión por la falta de presentación de la documentación requerida en plazo concedido a tal efecto.
B18: (2) La obligación de notificación aparece expresamente recogida en el art 17 de la Ley que regula esta materia que dice: La resolución se notificará en el plazo común de tres días al solicitante, al Colegio de Abogados y, en su caso, al Colegio de Procuradores, así como a las partes interesadas y se comunicará al Juzgado o Tribunal que esté conociendo del proceso, o al Juez Decano de la localidad si aquél no se hubiera iniciado.
B20: Tiempo medio (en días) entre registro y notificación al órgano de la resolución | H20: 30.5
B22: Procesos judiciales y procedimientos administrativos que tengan causa directa o indirecta en la violencia de género
B23: Nº solicitudes | H23: No disponible (*)
B24: Nº reconocimientos de derecho | H24: No disponible (*)
B26: Para los casos en los que existe un pleito en trámite
B27: Tiempo medio (en días) que transcurre entre el registro de la solicitud y la comunicación de la resolución al órgano | H27: 30.5
B29: Impugnaciones
B30: Nº resoluciones impugnadas | C30: Admitidas | D30: Remitidas al juzgado o tribunal para su resolución | E30: Pendientes de remitir al juzgado o tribunal para su resolución
B31: 50 | C31: 49 | D31: 48 | E31: 1
B33: (*)El aplicativo informático no permite disponer de esos datos.

Sheet Palma, La
B12: Nº de solicitudes registradas | D12: Inadmitidas ab initio(1) | E12: Denegadas tras tramitación | F12: Resueltas | H12: Pendientes
F14: Notificadas al órgano(2) | G14: Pendientes de notificar al órgano(2)
B15: Procedentes de colegios profesionales | C15: Procedentes de juzgados o decanatos
B16: 4 | C16: 690 | D16: 96 | E16: 68 | F16: 694 | G16: 0 | H16: 0
B17: (1) Normalmente se produce la inadmisión por la falta de presentación de la documentación requerida en plazo concedido a tal efecto.
B18: (2) La obligación de notificación aparece expresamente recogida en el art 17 de la Ley que regula esta materia que dice: La resolución se notificará en el plazo común de tres días al solicitante, al Colegio de Abogados y, en su caso, al Colegio de Procuradores, así como a las partes interesadas y se comunicará al Juzgado o Tribunal que esté conociendo del proceso, o al Juez Decano de la localidad si aquél no se hubiera iniciado.
B20: Tiempo medio (en días) entre registro y notificación al órgano de la resolución | H20: 30
B22: Procesos judiciales y procedimientos administrativos que tengan causa directa o indirecta en la violencia de género
B23: Nº solicitudes | H23: 1156
B24: Nº reconocimientos de derecho | H24: 1088
B26: Para los casos en los que existe un pleito en trámite
B27: Tiempo medio (en días) que transcurre entre el registro de la solicitud y la comunicación de la resolución al órgano | H27: 30
B29: Impugnaciones
B30: Nº resoluciones impugnadas | C30: Admitidas | D30: Remitidas al juzgado o tribunal para su resolución | E30: Pendientes de remitir al juzgado o tribunal para su resolución
B31: 8 | C31: 8 | D31: 5 | E31: 3

Sheet Tenerife
B12: Nº de solicitudes registradas | D12: Inadmitidas ab initio(1) | E12: Denegadas tras tramitación | F12: Resueltas | H12: Pendientes
F14: Notificadas al órgano(2) | G14: Pendientes de notificar al órgano(2)
B15: Procedentes de colegios profesionales | C15: Procedentes de juzgados o decanatos
B16: 14729 | C16: 0 | D16: 1083 | E16: 1433 | F16: Todas aquellas en las que había procedimiento judicial en trámite. | G16: 0 | H16: 0
B17: (1) Normalmente se produce la inadmisión por la falta de presentación de la documentación requerida en plazo concedido a tal efecto.
B18: (2) La obligación de notificación aparece expresamente recogida en el art 17 de la Ley que regula esta materia que dice: La resolución se notificará en el plazo común de tres días al solicitante, al Colegio de Abogados y, en su caso, al Colegio de Procuradores, así como a las partes interesadas y se comunicará al Juzgado o Tribunal que esté conociendo del proceso, o al Juez Decano de la localidad si aquél no se hubiera iniciado.
B20: Tiempo medio (en días) entre registro y notificación al órgano de la resolución | H20: 16
B22: Procesos judiciales y procedimientos administrativos que tengan causa directa o indirecta en la violencia de género
B23: Nº solicitudes | H23: 3562
B24: Nº reconocimientos de derecho | H24: 3562
B26: Para los casos en los que existe un pleito en trámite
B27: Tiempo medio (en días) que transcurre entre el registro de la solicitud y la comunicación de la resolución al órgano | H27: 16
B29: Impugnaciones
B30: Nº resoluciones impugnadas | C30: Admitidas | D30: Remitidas al juzgado o tribunal para su resolución | E30: Pendientes de remitir al juzgado o tribunal para su resolución
B31: 154 | C31: 154 | D31: 154 | E31: 0

Sheet CANTABRIA
B12: Nº de solicitudes registradas | D12: Inadmitidas ab initio(1) | E12: Denegadas tras tramitación | F12: Resueltas | H12: Pendientes
F14: Notificadas al órgano(2) | G14: Pendientes de notificar al órgano(2)
B15: Procedentes de colegios profesionales | C15: Procedentes de juzgados o decanatos
B16: 7059 | C16: 0 | D16: 102 | E16: 1133 | F16: 6957 | G16: 0 | H16: 0
B17: (1) Normalmente se produce la inadmisión por la falta de presentación de la documentación requerida en plazo concedido a tal efecto.
B18: (2) La obligación de notificación aparece expresamente recogida en el art 17 de la Ley que regula esta materia que dice: La resolución se notificará en el plazo común de tres días al solicitante, al Colegio de Abogados y, en su caso, al Colegio de Procuradores, así como a las partes interesadas y se comunicará al Juzgado o Tribunal que esté conociendo del proceso, o al Juez Decano de la localidad si aquél no se hubiera iniciado.
B20: Tiempo medio (en días) entre registro y notificación al órgano de la resolución | H20: 20
B22: Procesos judiciales y procedimientos administrativos que tengan causa directa o indirecta en la violencia de género
B23: Nº solicitudes | H23: 1138
B24: Nº reconocimientos de derecho | H24: 1008
B26: Para los casos en los que existe un pleito en trámite
B27: Tiempo medio (en días) que transcurre entre el registro de la solicitud y la comunicación de la resolución al órgano | H27: 20
B29: Impugnaciones
B30: Nº resoluciones impugnadas | C30: Admitidas | D30: Remitidas al juzgado o tribunal para su resolución | E30: Pendientes de remitir al juzgado o tribunal para su resolución
B31: 100 | C31: 100 | D31: 100 | E31: 0

Sheet CATALUÑA
B12: Nº de solicitudes registradas | D12: Inadmitidas ab initio(1) | E12: Denegadas tras tramitación | F12: Resueltas | H12: Pendientes
F14: Notificadas al órgano(2) | G14: Pendientes de notificar al órgano(2)
B15: Procedentes de colegios profesionales | C15: Procedentes de juzgados o decanatos
B16: 223009 | C16: - | D16: 14491 | E16: 28102 | F16: 209016 | G16: - | H16: 34135
B17: (1) Normalmente se produce la inadmisión por la falta de presentación de la documentación requerida en plazo concedido a tal efecto.
B18: (2) La obligación de notificación aparece expresamente recogida en el art 17 de la Ley que regula esta materia que dice: La resolución se notificará en el plazo común de tres días al solicitante, al Colegio de Abogados y, en su caso, al Colegio de Procuradores, así como a las partes interesadas y se comunicará al Juzgado o Tribunal que esté conociendo del proceso, o al Juez Decano de la localidad si aquél no se hubiera iniciado.
B20: Tiempo medio (en días) entre registro y notificación al órgano de la resolución | H20: -
B22: Procesos judiciales y procedimientos administrativos que tengan causa directa o indirecta en la violencia de género
B23: Nº solicitudes | H23: -
B24: Nº reconocimientos de derecho | H24: -
B26: Para los casos en los que existe un pleito en trámite
B27: Tiempo medio (en días) que transcurre entre el registro de la solicitud y la comunicación de la resolución al órgano | H27: -
B29: Impugnaciones
B30: Nº resoluciones impugnadas | C30: Admitidas | D30: Remitidas al juzgado o tribunal para su resolución | E30: Pendientes de remitir al juzgado o tribunal para su resolución
B31: 1997 | C31: - | D31: - | E31: -

Sheet Barcelona
B12: Nº de solicitudes registradas | D12: Inadmitidas ab initio(1) | E12: Denegadas tras tramitación | F12: Resueltas | H12: Pendientes
F14: Notificadas al órgano(2) | G14: Pendientes de notificar al órgano(2)
B15: Procedentes de colegios profesionales | C15: Procedentes de juzgados o decanatos
B16: 154291 | C16: - | D16: 8136 | E16: 19216 | F16: 145487 | G16: - | H16: 25918
B17: (1) Normalmente se produce la inadmisión por la falta de presentación de la documentación requerida en plazo concedido a tal efecto.
B18: (2) La obligación de notificación aparece expresamente recogida en el art 17 de la Ley que regula esta materia que dice: La resolución se notificará en el plazo común de tres días al solicitante, al Colegio de Abogados y, en su caso, al Colegio de Procuradores, así como a las partes interesadas y se comunicará al Juzgado o Tribunal que esté conociendo del proceso, o al Juez Decano de la localidad si aquél no se hubiera iniciado.
B20: Tiempo medio (en días) entre registro y notificación al órgano de la resolución | H20: -
B22: Procesos judiciales y procedimientos administrativos que tengan causa directa o indirecta en la violencia de género
B23: Nº solicitudes | H23: -
B24: Nº reconocimientos de derecho | H24: -
B26: Para los casos en los que existe un pleito en trámite
B27: Tiempo medio (en días) que transcurre entre el registro de la solicitud y la comunicación de la resolución al órgano | H27: -
B29: Impugnaciones
B30: Nº resoluciones impugnadas | C30: Admitidas | D30: Remitidas al juzgado o tribunal para su resolución | E30: Pendientes de remitir al juzgado o tribunal para su resolución
B31: 1500 | C31: - | D31: - | E31: -

Sheet Girona
B12: Nº de solicitudes registradas | D12: Inadmitidas ab initio(1) | E12: Denegadas tras tramitación | F12: Resueltas | H12: Pendientes
F14: Notificadas al órgano(2) | G14: Pendientes de notificar al órgano(2)
B15: Procedentes de colegios profesionales | C15: Procedentes de juzgados o decanatos
B16: 30065 | C16: - | D16: 1191 | E16: 3405 | F16: 27641 | G16: - | H16: 5881
B17: (1) Normalmente se produce la inadmisión por la falta de presentación de la documentación requerida en plazo concedido a tal efecto.
B18: (2) La obligación de notificación aparece expresamente recogida en el art 17 de la Ley que regula esta materia que dice: La resolución se notificará en el plazo común de tres días al solicitante, al Colegio de Abogados y, en su caso, al Colegio de Procuradores, así como a las partes interesadas y se comunicará al Juzgado o Tribunal que esté conociendo del proceso, o al Juez Decano de la localidad si aquél no se hubiera iniciado.
B20: Tiempo medio (en días) entre registro y notificación al órgano de la resolución | H20: -
B22: Procesos judiciales y procedimientos administrativos que tengan causa directa o indirecta en la violencia de género
B23: Nº solicitudes | H23: -
B24: Nº reconocimientos de derecho | H24: -
B26: Para los casos en los que existe un pleito en trámite
B27: Tiempo medio (en días) que transcurre entre el registro de la solicitud y la comunicación de la resolución al órgano | H27: -
B29: Impugnaciones
B30: Nº resoluciones impugnadas | C30: Admitidas | D30: Remitidas al juzgado o tribunal para su resolución | E30: Pendientes de remitir al juzgado o tribunal para su resolución
B31: 108 | C31: - | D31: - | E31: -

Sheet Lleida
B12: Nº de solicitudes registradas | D12: Inadmitidas ab initio(1) | E12: Denegadas tras tramitación | F12: Resueltas | H12: Pendientes
F14: Notificadas al órgano(2) | G14: Pendientes de notificar al órgano(2)
B15: Procedentes de colegios profesionales | C15: Procedentes de juzgados o decanatos
B16: 15043 | C16: - | D16: 3444 | E16: 1285 | F16: 11673 | G16: - | H16: 438
B17: (1) Normalmente se produce la inadmisión por la falta de presentación de la documentación requerida en plazo concedido a tal efecto.
B18: (2) La obligación de notificación aparece expresamente recogida en el art 17 de la Ley que regula esta materia que dice: La resolución se notificará en el plazo común de tres días al solicitante, al Colegio de Abogados y, en su caso, al Colegio de Procuradores, así como a las partes interesadas y se comunicará al Juzgado o Tribunal que esté conociendo del proceso, o al Juez Decano de la localidad si aquél no se hubiera iniciado.
B20: Tiempo medio (en días) entre registro y notificación al órgano de la resolución | H20: -
B22: Procesos judiciales y procedimientos administrativos que tengan causa directa o indirecta en la violencia de género
B23: Nº solicitudes | H23: -
B24: Nº reconocimientos de derecho | H24: -
B26: Para los casos en los que existe un pleito en trámite
B27: Tiempo medio (en días) que transcurre entre el registro de la solicitud y la comunicación de la resolución al órgano | H27: -
B29: Impugnaciones
B30: Nº resoluciones impugnadas | C30: Admitidas | D30: Remitidas al juzgado o tribunal para su resolución | E30: Pendientes de remitir al juzgado o tribunal para su resolución
B31: 438 | C31: - | D31: - | E31: -

Sheet Tarragona
B12: Nº de solicitudes registradas | D12: Inadmitidas ab initio(1) | E12: Denegadas tras tramitación | F12: Resueltas | H12: Pendientes
F14: Notificadas al órgano(2) | G14: Pendientes de notificar al órgano(2)
B15: Procedentes de colegios profesionales | C15: Procedentes de juzgados o decanatos
B16: 19113 | C16: - | D16: 1717 | E16: 3793 | F16: 19702 | G16: - | H16: 1680
B17: (1) Normalmente se produce la inadmisión por la falta de presentación de la documentación requerida en plazo concedido a tal efecto.
B18: (2) La obligación de notificación aparece expresamente recogida en el art 17 de la Ley que regula esta materia que dice: La resolución se notificará en el plazo común de tres días al solicitante, al Colegio de Abogados y, en su caso, al Colegio de Procuradores, así como a las partes interesadas y se comunicará al Juzgado o Tribunal que esté conociendo del proceso, o al Juez Decano de la localidad si aquél no se hubiera iniciado.
B20: Tiempo medio (en días) entre registro y notificación al órgano de la resolución | H20: -
B22: Procesos judiciales y procedimientos administrativos que tengan causa directa o indirecta en la violencia de género
B23: Nº solicitudes | H23: -
B24: Nº reconocimientos de derecho | H24: -
B26: Para los casos en los que existe un pleito en trámite
B27: Tiempo medio (en días) que transcurre entre el registro de la solicitud y la comunicación de la resolución al órgano | H27: -
B29: Impugnaciones
B30: Nº resoluciones impugnadas | C30: Admitidas | D30: Remitidas al juzgado o tribunal para su resolución | E30: Pendientes de remitir al juzgado o tribunal para su resolución
B31: 232 | C31: - | D31: - | E31: -

Sheet Terres de l'Ebre
B12: Nº de solicitudes registradas | D12: Inadmitidas ab initio(1) | E12: Denegadas tras tramitación | F12: Resueltas | H12: Pendientes
F14: Notificadas al órgano(2) | G14: Pendientes de notificar al órgano(2)
B15: Procedentes de colegios profesionales | C15: Procedentes de juzgados o decanatos
B16: 4494 | C16: - | D16: - | E16: 403 | F16: 4513 | G16: - | H16: 218
B17: (1) Normalmente se produce la inadmisión por la falta de presentación de la documentación requerida en plazo concedido a tal efecto.
B18: (2) La obligación de notificación aparece expresamente recogida en el art 17 de la Ley que regula esta materia que dice: La resolución se notificará en el plazo común de tres días al solicitante, al Colegio de Abogados y, en su caso, al Colegio de Procuradores, así como a las partes interesadas y se comunicará al Juzgado o Tribunal que esté conociendo del proceso, o al Juez Decano de la localidad si aquél no se hubiera iniciado.
B20: Tiempo medio (en días) entre registro y notificación al órgano de la resolución | H20: -
B22: Procesos judiciales y procedimientos administrativos que tengan causa directa o indirecta en la violencia de género
B23: Nº solicitudes | H23: -
B24: Nº reconocimientos de derecho | H24: -
B26: Para los casos en los que existe un pleito en trámite
B27: Tiempo medio (en días) que transcurre entre el registro de la solicitud y la comunicación de la resolución al órgano | H27: -
B29: Impugnaciones
B30: Nº resoluciones impugnadas | C30: Admitidas | D30: Remitidas al juzgado o tribunal para su resolución | E30: Pendientes de remitir al juzgado o tribunal para su resolución
B31: 218 | C31: - | D31: - | E31: -

Sheet C. VALENCIANA
B12: Nº de solicitudes registradas | D12: Inadmitidas ab initio(1) | E12: Denegadas tras tramitación | F12: Resueltas | H12: Pendientes
F14: Notificadas al órgano(2) | G14: Pendientes de notificar al órgano(2)
B15: Procedentes de colegios profesionales | C15: Procedentes de juzgados o decanatos
B16: =Alicante_Alacant!B16+Castellón_Castelló!B16+Valencia_València!B16 -> 122178 | C16: =Alicante_Alacant!C16+Castellón_Castelló!C16+Valencia_València!C16 -> 122178 | D16: =Alicante_Alacant!D16+Castellón_Castelló!D16+Valencia_València!D16 -> 23591 | E16: =Alicante_Alacant!E16+Castellón_Castelló!E16+Valencia_València!E16 -> 15515 | F16: =Alicante_Alacant!F16+Castellón_Castelló!F16+Valencia_València!F16 -> 122178 | G16: - | H16: -
B17: (1) Normalmente se produce la inadmisión por la falta de presentación de la documentación requerida en plazo concedido a tal efecto.
B18: (2) La obligación de notificación aparece expresamente recogida en el art 17 de la Ley que regula esta materia que dice: La resolución se notificará en el plazo común de tres días al solicitante, al Colegio de Abogados y, en su caso, al Colegio de Procuradores, así como a las partes interesadas y se comunicará al Juzgado o Tribunal que esté conociendo del proceso, o al Juez Decano de la localidad si aquél no se hubiera iniciado.
B20: Tiempo medio (en días) entre registro y notificación al órgano de la resolución | H20: 30
B22: Procesos judiciales y procedimientos administrativos que tengan causa directa o indirecta en la violencia de género
B23: Nº solicitudes | H23: =Alicante_Alacant!H23+Castellón_Castelló!H23+Valencia_València!H23 -> 12686
B24: Nº reconocimientos de derecho | H24: =Alicante_Alacant!H24+Castellón_Castelló!H24+Valencia_València!H24 -> 12686
B26: Para los casos en los que existe un pleito en trámite
B27: Tiempo medio (en días) que transcurre entre el registro de la solicitud y la comunicación de la resolución al órgano | H27: 30
B29: Impugnaciones
B30: Nº resoluciones impugnadas | C30: Admitidas | D30: Remitidas al juzgado o tribunal para su resolución | E30: Pendientes de remitir al juzgado o tribunal para su resolución
B31: =Alicante_Alacant!B31+Castellón_Castelló!B31+Valencia_València!B31 -> 1950 | C31: =Alicante_Alacant!C31+Castellón_Castelló!C31+Valencia_València!C31 -> 1950 | D31: =Alicante_Alacant!D31+Castellón_Castelló!D31+Valencia_València!D31 -> 1950 | E31: =Alicante_Alacant!E31+Castellón_Castelló!E31+Valencia_València!E31 -> 0

Sheet Alicante_Alacant
B12: Nº de solicitudes registradas | D12: Inadmitidas ab initio(1) | E12: Denegadas tras tramitación | F12: Resueltas | H12: Pendientes
F14: Notificadas al órgano(2) | G14: Pendientes de notificar al órgano(2)
B15: Procedentes de colegios profesionales | C15: Procedentes de juzgados o decanatos
B16: 40832 | C16: 40832 | D16: 4164 | E16: 4285 | F16: 40832 | G16: - | H16: -
B17: (1) Normalmente se produce la inadmisión por la falta de presentación de la documentación requerida en plazo concedido a tal efecto.
B18: (2) La obligación de notificación aparece expresamente recogida en el art 17 de la Ley que regula esta materia que dice: La resolución se notificará en el plazo común de tres días al solicitante, al Colegio de Abogados y, en su caso, al Colegio de Procuradores, así como a las partes interesadas y se comunicará al Juzgado o Tribunal que esté conociendo del proceso, o al Juez Decano de la localidad si aquél no se hubiera iniciado.
B20: Tiempo medio (en días) entre registro y notificación al órgano de la resolución | H20: 30
B22: Procesos judiciales y procedimientos administrativos que tengan causa directa o indirecta en la violencia de género
B23: Nº solicitudes | H23: 4941
B24: Nº reconocimientos de derecho | H24: 4941
B26: Para los casos en los que existe un pleito en trámite
B27: Tiempo medio (en días) que transcurre entre el registro de la solicitud y la comunicación de la resolución al órgano | H27: 30
B29: Impugnaciones
B30: Nº resoluciones impugnadas | C30: Admitidas | D30: Remitidas al juzgado o tribunal para su resolución | E30: Pendientes de remitir al juzgado o tribunal para su resolución
B31: 508 | C31: 508 | D31: 508 | E31: 0

Sheet Castellón_Castelló
B12: Nº de solicitudes registradas | D12: Inadmitidas ab initio(1) | E12: Denegadas tras tramitación | F12: Resueltas | H12: Pendientes
F14: Notificadas al órgano(2) | G14: Pendientes de notificar al órgano(2)
B15: Procedentes de colegios profesionales | C15: Procedentes de juzgados o decanatos
B16: 13920 | C16: 13920 | D16: 13920 | E16: 2136 | F16: 13920 | G16: - | H16: -
B17: (1) Normalmente se produce la inadmisión por la falta de presentación de la documentación requerida en plazo concedido a tal efecto.
B18: (2) La obligación de notificación aparece expresamente recogida en el art 17 de la Ley que regula esta materia que dice: La resolución se notificará en el plazo común de tres días al solicitante, al Colegio de Abogados y, en su caso, al Colegio de Procuradores, así como a las partes interesadas y se comunicará al Juzgado o Tribunal que esté conociendo del proceso, o al Juez Decano de la localidad si aquél no se hubiera iniciado.
B20: Tiempo medio (en días) entre registro y notificación al órgano de la resolución | H20: 30
B22: Procesos judiciales y procedimientos administrativos que tengan causa directa o indirecta en la violencia de género
B23: Nº solicitudes | H23: 1887
B24: Nº reconocimientos de derecho | H24: 1887
B26: Para los casos en los que existe un pleito en trámite
B27: Tiempo medio (en días) que transcurre entre el registro de la solicitud y la comunicación de la resolución al órgano | H27: 30
B29: Impugnaciones
B30: Nº resoluciones impugnadas | C30: Admitidas | D30: Remitidas al juzgado o tribunal para su resolución | E30: Pendientes de remitir al juzgado o tribunal para su resolución
B31: 199 | C31: 199 | D31: 199 | E31: 0

Sheet Valencia_València
B12: Nº de solicitudes registradas | D12: Inadmitidas ab initio(1) | E12: Denegadas tras tramitación | F12: Resueltas | H12: Pendientes
F14: Notificadas al órgano(2) | G14: Pendientes de notificar al órgano(2)
B15: Procedentes de colegios profesionales | C15: Procedentes de juzgados o decanatos
B16: 67426 | C16: 67426 | D16: 5507 | E16: 9094 | F16: 67426 | G16: - | H16: -
B17: (1) Normalmente se produce la inadmisión por la falta de presentación de la documentación requerida en plazo concedido a tal efecto.
B18: (2) La obligación de notificación aparece expresamente recogida en el art 17 de la Ley que regula esta materia que dice: La resolución se notificará en el plazo común de tres días al solicitante, al Colegio de Abogados y, en su caso, al Colegio de Procuradores, así como a las partes interesadas y se comunicará al Juzgado o Tribunal que esté conociendo del proceso, o al Juez Decano de la localidad si aquél no se hubiera iniciado.
B20: Tiempo medio (en días) entre registro y notificación al órgano de la resolución | H20: 30
B22: Procesos judiciales y procedimientos administrativos que tengan causa directa o indirecta en la violencia de género
B23: Nº solicitudes | H23: 5858
B24: Nº reconocimientos de derecho | H24: 5858
B26: Para los casos en los que existe un pleito en trámite
B27: Tiempo medio (en días) que transcurre entre el registro de la solicitud y la comunicación de la resolución al órgano | H27: 30
B29: Impugnaciones
B30: Nº resoluciones impugnadas | C30: Admitidas | D30: Remitidas al juzgado o tribunal para su resolución | E30: Pendientes de remitir al juzgado o tribunal para su resolución
B31: 1243 | C31: 1243 | D31: 1243 | E31: 0

Sheet GALICIA
B12: Nº de solicitudes registradas | D12: Inadmitidas ab initio(1) | E12: Denegadas tras tramitación | F12: Resueltas | H12: Pendientes
F14: Notificadas al órgano(2) | G14: Pendientes de notificar al órgano(2)
B15: Procedentes de colegios profesionales | C15: Procedentes de juzgados o decanatos
B16: ='Coruña, A'!B16+Lugo!B16+Ourense!B16+Pontevedra!B16 -> 48358 | C16: ='Coruña, A'!C16+Lugo!C16+Ourense!C16+Pontevedra!C16 -> 0 | D16: ='Coruña, A'!D16+Lugo!D16+Ourense!D16+Pontevedra!D16 -> 0 | E16: ='Coruña, A'!E16+Lugo!E16+Ourense!E16+Pontevedra!E16 -> 8516 | F16: ='Coruña, A'!F16+Lugo!F16+Ourense!F16+Pontevedra!F16 -> 49327 | G16: ='Coruña, A'!G16+Lugo!G16+Ourense!G16+Pontevedra!G16 -> 0 | H16: ='Coruña, A'!H16+Lugo!H16+Ourense!H16+Pontevedra!H16 -> 66
B17: (1) Normalmente se produce la inadmisión por la falta de presentación de la documentación requerida en plazo concedido a tal efecto.
B18: (2) La obligación de notificación aparece expresamente recogida en el art 17 de la Ley que regula esta materia que dice: La resolución se notificará en el plazo común de tres días al solicitante, al Colegio de Abogados y, en su caso, al Colegio de Procuradores, así como a las partes interesadas y se comunicará al Juzgado o Tribunal que esté conociendo del proceso, o al Juez Decano de la localidad si aquél no se hubiera iniciado.
B20: Tiempo medio (en días) entre registro y notificación al órgano de la resolución | H20: =('Coruña, A'!H20+Lugo!H20+Ourense!H20+Pontevedra!H20)/4 -> 22.6125
B22: Procesos judiciales y procedimientos administrativos que tengan causa directa o indirecta en la violencia de género
B23: Nº solicitudes | H23: ='Coruña, A'!H23+Lugo!H23+Ourense!H23+Pontevedra!H23 -> 4065
B24: Nº reconocimientos de derecho | H24: ='Coruña, A'!H24+Lugo!H24+Ourense!H24+Pontevedra!H24 -> 4065
B26: Para los casos en los que existe un pleito en trámite
B27: Tiempo medio (en días) que transcurre entre el registro de la solicitud y la comunicación de la resolución al órgano | H27: =('Coruña, A'!H27+Lugo!H27+Ourense!H27+Pontevedra!H27)/4 -> 22.6125
B29: Impugnaciones
B30: Nº resoluciones impugnadas | C30: Admitidas | D30: Remitidas al juzgado o tribunal para su resolución | E30: Pendientes de remitir al juzgado o tribunal para su resolución
B31: ='Coruña, A'!B31+Lugo!B31+Ourense!B31+Pontevedra!B31 -> 1336 | C31: ='Coruña, A'!C31+Lugo!C31+Ourense!C31+Pontevedra!C31 -> 1336 | D31: ='Coruña, A'!D31+Lugo!D31+Ourense!D31+Pontevedra!D31 -> 1316 | E31: ='Coruña, A'!E31+Lugo!E31+Ourense!E31+Pontevedra!E31 -> 20

Sheet Coruña, A
B12: Nº de solicitudes registradas | D12: Inadmitidas ab initio(1) | E12: Denegadas tras tramitación | F12: Resueltas | H12: Pendientes
F14: Notificadas al órgano(2) | G14: Pendientes de notificar al órgano(2)
B15: Procedentes de colegios profesionales | C15: Procedentes de juzgados o decanatos
B16: 16815 | C16: 0 | D16: 0 | E16: 2662 | F16: 16877 | G16: 0 | H16: 49
B17: (1) Normalmente se produce la inadmisión por la falta de presentación de la documentación requerida en plazo concedido a tal efecto.
B18: (2) La obligación de notificación aparece expresamente recogida en el art 17 de la Ley que regula esta materia que dice: La resolución se notificará en el plazo común de tres días al solicitante, al Colegio de Abogados y, en su caso, al Colegio de Procuradores, así como a las partes interesadas y se comunicará al Juzgado o Tribunal que esté conociendo del proceso, o al Juez Decano de la localidad si aquél no se hubiera iniciado.
B20: Tiempo medio (en días) entre registro y notificación al órgano de la resolución | H20: 14.2
B22: Procesos judiciales y procedimientos administrativos que tengan causa directa o indirecta en la violencia de género
B23: Nº solicitudes | H23: 1546
B24: Nº reconocimientos de derecho | H24: 1546
B26: Para los casos en los que existe un pleito en trámite
B27: Tiempo medio (en días) que transcurre entre el registro de la solicitud y la comunicación de la resolución al órgano | H27: 14.2
B29: Impugnaciones
B30: Nº resoluciones impugnadas | C30: Admitidas | D30: Remitidas al juzgado o tribunal para su resolución | E30: Pendientes de remitir al juzgado o tribunal para su resolución
B31: 310 | C31: 310 | D31: 310 | E31: 0

Sheet Lugo
B12: Nº de solicitudes registradas | D12: Inadmitidas ab initio(1) | E12: Denegadas tras tramitación | F12: Resueltas | H12: Pendientes
F14: Notificadas al órgano(2) | G14: Pendientes de notificar al órgano(2)
B15: Procedentes de colegios profesionales | C15: Procedentes de juzgados o decanatos
B16: 6137 | C16: 0 | D16: 0 | E16: 1161 | F16: 6087 | G16: 0 | H16: 5
B17: (1) Normalmente se produce la inadmisión por la falta de presentación de la documentación requerida en plazo concedido a tal efecto.
B18: (2) La obligación de notificación aparece expresamente recogida en el art 17 de la Ley que regula esta materia que dice: La resolución se notificará en el plazo común de tres días al solicitante, al Colegio de Abogados y, en su caso, al Colegio de Procuradores, así como a las partes interesadas y se comunicará al Juzgado o Tribunal que esté conociendo del proceso, o al Juez Decano de la localidad si aquél no se hubiera iniciado.
B20: Tiempo medio (en días) entre registro y notificación al órgano de la resolución | H20: 25.88
B22: Procesos judiciales y procedimientos administrativos que tengan causa directa o indirecta en la violencia de género
B23: Nº solicitudes | H23: 557
B24: Nº reconocimientos de derecho | H24: 557
B26: Para los casos en los que existe un pleito en trámite
B27: Tiempo medio (en días) que transcurre entre el registro de la solicitud y la comunicación de la resolución al órgano | H27: 25.88
B29: Impugnaciones
B30: Nº resoluciones impugnadas | C30: Admitidas | D30: Remitidas al juzgado o tribunal para su resolución | E30: Pendientes de remitir al juzgado o tribunal para su resolución
B31: 300 | C31: 300 | D31: 280 | E31: 20

Sheet Ourense
B12: Nº de solicitudes registradas | D12: Inadmitidas ab initio(1) | E12: Denegadas tras tramitación | F12: Resueltas | H12: Pendientes
F14: Notificadas al órgano(2) | G14: Pendientes de notificar al órgano(2)
B15: Procedentes de colegios profesionales | C15: Procedentes de juzgados o decanatos
B16: 6130 | C16: 0 | D16: 0 | E16: 1137 | F16: 6952 | G16: 0 | H16: 11
B17: (1) Normalmente se produce la inadmisión por la falta de presentación de la documentación requerida en plazo concedido a tal efecto.
B18: (2) La obligación de notificación aparece expresamente recogida en el art 17 de la Ley que regula esta materia que dice: La resolución se notificará en el plazo común de tres días al solicitante, al Colegio de Abogados y, en su caso, al Colegio de Procuradores, así como a las partes interesadas y se comunicará al Juzgado o Tribunal que esté conociendo del proceso, o al Juez Decano de la localidad si aquél no se hubiera iniciado.
B20: Tiempo medio (en días) entre registro y notificación al órgano de la resolución | H20: 34.79
B22: Procesos judiciales y procedimientos administrativos que tengan causa directa o indirecta en la violencia de género
B23: Nº solicitudes | H23: 594
B24: Nº reconocimientos de derecho | H24: 594
B26: Para los casos en los que existe un pleito en trámite
B27: Tiempo medio (en días) que transcurre entre el registro de la solicitud y la comunicación de la resolución al órgano | H27: 34.79
B29: Impugnaciones
B30: Nº resoluciones impugnadas | C30: Admitidas | D30: Remitidas al juzgado o tribunal para su resolución | E30: Pendientes de remitir al juzgado o tribunal para su resolución
B31: 132 | C31: 132 | D31: 132 | E31: 0

Sheet Pontevedra
B12: Nº de solicitudes registradas | D12: Inadmitidas ab initio(1) | E12: Denegadas tras tramitación | F12: Resueltas | H12: Pendientes
F14: Notificadas al órgano(2) | G14: Pendientes de notificar al órgano(2)
B15: Procedentes de colegios profesionales | C15: Procedentes de juzgados o decanatos
B16: 19276 | C16: 0 | D16: 0 | E16: 3556 | F16: 19411 | G16: 0 | H16: 1
B17: (1) Normalmente se produce la inadmisión por la falta de presentación de la documentación requerida en plazo concedido a tal efecto.
B18: (2) La obligación de notificación aparece expresamente recogida en el art 17 de la Ley que regula esta materia que dice: La resolución se notificará en el plazo común de tres días al solicitante, al Colegio de Abogados y, en su caso, al Colegio de Procuradores, así como a las partes interesadas y se comunicará al Juzgado o Tribunal que esté conociendo del proceso, o al Juez Decano de la localidad si aquél no se hubiera iniciado.
B20: Tiempo medio (en días) entre registro y notificación al órgano de la resolución | H20: 15.58
B22: Procesos judiciales y procedimientos administrativos que tengan causa directa o indirecta en la violencia de género
B23: Nº solicitudes | H23: 1368
B24: Nº reconocimientos de derecho | H24: 1368
B26: Para los casos en los que existe un pleito en trámite
B27: Tiempo medio (en días) que transcurre entre el registro de la solicitud y la comunicación de la resolución al órgano | H27: 15.58
B29: Impugnaciones
B30: Nº resoluciones impugnadas | C30: Admitidas | D30: Remitidas al juzgado o tribunal para su resolución | E30: Pendientes de remitir al juzgado o tribunal para su resolución
B31: 594 | C31: 594 | D31: 594 | E31: 0

Sheet MADRID, COMUNIDAD DE
B12: Nº de solicitudes registradas | D12: Inadmitidas ab initio(1) | E12: Denegadas tras tramitación | F12: Resueltas | H12: Pendientes
F14: Notificadas al órgano(2) | G14: Pendientes de notificar al órgano(2)
B15: Procedentes de colegios profesionales | C15: Procedentes de juzgados o decanatos
B16: 99847 | C16: 0 | D16: 29937 | E16: 8900 | F16: 106672 | G16: 0 | H16: 52
B17: (1) Normalmente se produce la inadmisión por la falta de presentación de la documentación requerida en plazo concedido a tal efecto.
B18: (2) La obligación de notificación aparece expresamente recogida en el art 17 de la Ley que regula esta materia que dice: La resolución se notificará en el plazo común de tres días al solicitante, al Colegio de Abogados y, en su caso, al Colegio de Procuradores, así como a las partes interesadas y se comunicará al Juzgado o Tribunal que esté conociendo del proceso, o al Juez Decano de la localidad si aquél no se hubiera iniciado.
B20: Tiempo medio (en días) entre registro y notificación al órgano de la resolución | H20: 33
B22: Procesos judiciales y procedimientos administrativos que tengan causa directa o indirecta en la violencia de género
B23: Nº solicitudes | H23: 9782
B24: Nº reconocimientos de derecho | H24: 7951
B26: Para los casos en los que existe un pleito en trámite
B27: Tiempo medio (en días) que transcurre entre el registro de la solicitud y la comunicación de la resolución al órgano | H27: -
B29: Impugnaciones
B30: Nº resoluciones impugnadas | C30: Admitidas | D30: Remitidas al juzgado o tribunal para su resolución | E30: Pendientes de remitir al juzgado o tribunal para su resolución
B31: 1356 | C31: 1356 | D31: 1303 | E31: 53

Sheet NAVARRA, COMUNIDAD FORAL DE
B12: Nº de solicitudes registradas | D12: Inadmitidas ab initio(1) | E12: Denegadas tras tramitación | F12: Resueltas | H12: Pendientes
F14: Notificadas al órgano(2) | G14: Pendientes de notificar al órgano(2)
B15: Procedentes de colegios profesionales | C15: Procedentes de juzgados o decanatos
B16: 14021 | C16: 0 | D16: 239 | E16: 987 | F16: 11700 | G16: 0 | H16: 293
B17: (1) Normalmente se produce la inadmisión por la falta de presentación de la documentación requerida en plazo concedido a tal efecto.
B18: (2) La obligación de notificación aparece expresamente recogida en el art 17 de la Ley que regula esta materia que dice: La resolución se notificará en el plazo común de tres días al solicitante, al Colegio de Abogados y, en su caso, al Colegio de Procuradores, así como a las partes interesadas y se comunicará al Juzgado o Tribunal que esté conociendo del proceso, o al Juez Decano de la localidad si aquél no se hubiera iniciado.
B20: Tiempo medio (en días) entre registro y notificación al órgano de la resolución | H20: 15
B22: Procesos judiciales y procedimientos administrativos que tengan causa directa o indirecta en la violencia de género
B23: Nº solicitudes | H23: 1643
B24: Nº reconocimientos de derecho | H24: 1643
B26: Para los casos en los que existe un pleito en trámite
B27: Tiempo medio (en días) que transcurre entre el registro de la solicitud y la comunicación de la resolución al órgano | H27: 15
B29: Impugnaciones
B30: Nº resoluciones impugnadas | C30: Admitidas | D30: Remitidas al juzgado o tribunal para su resolución | E30: Pendientes de remitir al juzgado o tribunal para su resolución
B31: 160 | C31: 160 | D31: 160 | E31: 0

Sheet PAÍS VASCO
B12: Nº de solicitudes registradas | D12: Inadmitidas ab initio(1) | E12: Denegadas tras tramitación | F12: Resueltas | H12: Pendientes
F14: Notificadas al órgano(2) | G14: Pendientes de notificar al órgano(2)
B15: Procedentes de colegios profesionales | C15: Procedentes de juzgados o decanatos
B16: 36393 | C16: 0 | D16: 0 | E16: 2377 | F16: 24181 | G16: 0 | H16: 0
B17: (1) Normalmente se produce la inadmisión por la falta de presentación de la documentación requerida en plazo concedido a tal efecto.
B18: (2) La obligación de notificación aparece expresamente recogida en el art 17 de la Ley que regula esta materia que dice: La resolución se notificará en el plazo común de tres días al solicitante, al Colegio de Abogados y, en su caso, al Colegio de Procuradores, así como a las partes interesadas y se comunicará al Juzgado o Tribunal que esté conociendo del proceso, o al Juez Decano de la localidad si aquél no se hubiera iniciado.
B20: Tiempo medio (en días) entre registro y notificación al órgano de la resolución | H20: 15-30 días
B22: Procesos judiciales y procedimientos administrativos que tengan causa directa o indirecta en la violencia de género
B23: Nº solicitudes | H23: 4078
B24: Nº reconocimientos de derecho | H24: 4078
B26: Para los casos en los que existe un pleito en trámite
B27: Tiempo medio (en días) que transcurre entre el registro de la solicitud y la comunicación de la resolución al órgano | H27: 30
B29: Impugnaciones
B30: Nº resoluciones impugnadas | C30: Admitidas | D30: Remitidas al juzgado o tribunal para su resolución | E30: Pendientes de remitir al juzgado o tribunal para su resolución
B31: 464 | C31: 448 | D31: 464 | E31: 0

Sheet Araba_Álava
B12: Nº de solicitudes registradas | D12: Inadmitidas ab initio(1) | E12: Denegadas tras tramitación | F12: Resueltas | H12: Pendientes
F14: Notificadas al órgano(2) | G14: Pendientes de notificar al órgano(2)
B15: Procedentes de colegios profesionales | C15: Procedentes de juzgados o decanatos
B16: 7367 | C16: 0 | D16: 0 | E16: 795 | F16: 7367 | G16: 0 | H16: 0
B17: (1) Normalmente se produce la inadmisión por la falta de presentación de la documentación requerida en plazo concedido a tal efecto.
B18: (2) La obligación de notificación aparece expresamente recogida en el art 17 de la Ley que regula esta materia que dice: La resolución se notificará en el plazo común de tres días al solicitante, al Colegio de Abogados y, en su caso, al Colegio de Procuradores, así como a las partes interesadas y se comunicará al Juzgado o Tribunal que esté conociendo del proceso, o al Juez Decano de la localidad si aquél no se hubiera iniciado.
B20: Tiempo medio (en días) entre registro y notificación al órgano de la resolución | H20: 15
B22: Procesos judiciales y procedimientos administrativos que tengan causa directa o indirecta en la violencia de género
B23: Nº solicitudes | H23: 1263
B24: Nº reconocimientos de derecho | H24: 1263
B26: Para los casos en los que existe un pleito en trámite
B27: Tiempo medio (en días) que transcurre entre el registro de la solicitud y la comunicación de la resolución al órgano | H27: 15
B29: Impugnaciones
B30: Nº resoluciones impugnadas | C30: Admitidas | D30: Remitidas al juzgado o tribunal para su resolución | E30: Pendientes de remitir al juzgado o tribunal para su resolución
B31: 67 | C31: 67 | D31: 67 | E31: 0

Sheet Bizkaia
B12: Nº de solicitudes registradas | D12: Inadmitidas ab initio(1) | E12: Denegadas tras tramitación | F12: Resueltas | H12: Pendientes
F14: Notificadas al órgano(2) | G14: Pendientes de notificar al órgano(2)
B15: Procedentes de colegios profesionales | C15: Procedentes de juzgados o decanatos
B16: 16814 | C16: 0 | D16: 0 | E16: 1582 | F16: 16814 | G16: 0 | H16: -
B17: (1) Normalmente se produce la inadmisión por la falta de presentación de la documentación requerida en plazo concedido a tal efecto.
B18: (2) La obligación de notificación aparece expresamente recogida en el art 17 de la Ley que regula esta materia que dice: La resolución se notificará en el plazo común de tres días al solicitante, al Colegio de Abogados y, en su caso, al Colegio de Procuradores, así como a las partes interesadas y se comunicará al Juzgado o Tribunal que esté conociendo del proceso, o al Juez Decano de la localidad si aquél no se hubiera iniciado.
B20: Tiempo medio (en días) entre registro y notificación al órgano de la resolución | H20: 30
B22: Procesos judiciales y procedimientos administrativos que tengan causa directa o indirecta en la violencia de género
B23: Nº solicitudes | H23: 1429
B24: Nº reconocimientos de derecho | H24: 1429
B26: Para los casos en los que existe un pleito en trámite
B27: Tiempo medio (en días) que transcurre entre el registro de la solicitud y la comunicación de la resolución al órgano | H27: 30
B29: Impugnaciones
B30: Nº resoluciones impugnadas | C30: Admitidas | D30: Remitidas al juzgado o tribunal para su resolución | E30: Pendientes de remitir al juzgado o tribunal para su resolución
B31: 304 | C31: 288 | D31: 304 | E31: 0

Sheet Guipuzkoa
B12: Nº de solicitudes registradas | D12: Inadmitidas ab initio(1) | E12: Denegadas tras tramitación | F12: Resueltas | H12: Pendientes
F14: Notificadas al órgano(2) | G14: Pendientes de notificar al órgano(2)
B15: Procedentes de colegios profesionales | C15: Procedentes de juzgados o decanatos
B16: 12212 | C16: 0 | D16: 0 | E16: - | F16: - | G16: - | H16: -
B17: (1) Normalmente se produce la inadmisión por la falta de presentación de la documentación requerida en plazo concedido a tal efecto.
B18: (2) La obligación de notificación aparece expresamente recogida en el art 17 de la Ley que regula esta materia que dice: La resolución se notificará en el plazo común de tres días al solicitante, al Colegio de Abogados y, en su caso, al Colegio de Procuradores, así como a las partes interesadas y se comunicará al Juzgado o Tribunal que esté conociendo del proceso, o al Juez Decano de la localidad si aquél no se hubiera iniciado.
B20: Tiempo medio (en días) entre registro y notificación al órgano de la resolución | H20: 30
B22: Procesos judiciales y procedimientos administrativos que tengan causa directa o indirecta en la violencia de género
B23: Nº solicitudes | H23: 1386
B24: Nº reconocimientos de derecho | H24: 1386
B26: Para los casos en los que existe un pleito en trámite
B27: Tiempo medio (en días) que transcurre entre el registro de la solicitud y la comunicación de la resolución al órgano | H27: 30
B29: Impugnaciones
B30: Nº resoluciones impugnadas | C30: Admitidas | D30: Remitidas al juzgado o tribunal para su resolución | E30: Pendientes de remitir al juzgado o tribunal para su resolución
B31: 93 | C31: 93 | D31: 93 | E31: 0

Sheet RIOJA, LA
B12: Nº de solicitudes registradas | D12: Inadmitidas ab initio(1) | E12: Denegadas tras tramitación | F12: Resueltas | H12: Pendientes
F14: Notificadas al órgano(2) | G14: Pendientes de notificar al órgano(2)
B15: Procedentes de colegios profesionales | C15: Procedentes de juzgados o decanatos
B16: 4125 | C16: - | D16: 62 | E16: 638 | F16: 3748 | G16: 0 | H16: 377
B17: (1) Normalmente se produce la inadmisión por la falta de presentación de la documentación requerida en plazo concedido a tal efecto.
B18: (2) La obligación de notificación aparece expresamente recogida en el art 17 de la Ley que regula esta materia que dice: La resolución se notificará en el plazo común de tres días al solicitante, al Colegio de Abogados y, en su caso, al Colegio de Procuradores, así como a las partes interesadas y se comunicará al Juzgado o Tribunal que esté conociendo del proceso, o al Juez Decano de la localidad si aquél no se hubiera iniciado.
B20: Tiempo medio (en días) entre registro y notificación al órgano de la resolución | H20: 30
B22: Procesos judiciales y procedimientos administrativos que tengan causa directa o indirecta en la violencia de género
B23: Nº solicitudes | H23: 623
B24: Nº reconocimientos de derecho | H24: 660
B26: Para los casos en los que existe un pleito en trámite
B27: Tiempo medio (en días) que transcurre entre el registro de la solicitud y la comunicación de la resolución al órgano | H27: 30
B29: Impugnaciones
B30: Nº resoluciones impugnadas | C30: Admitidas | D30: Remitidas al juzgado o tribunal para su resolución | E30: Pendientes de remitir al juzgado o tribunal para su resolución
B31: 58 | C31: 57 | D31: 58 | E31: 0

Sheet Ámbito MINISTERIO
B11: Nº de solicitudes registradas | D11: Inadmitidas ab initio(1) | E11: Denegadas tras tramitación | F11: Resueltas | H11: Pendientes
F13: Notificadas al órgano(2) | G13: Pendientes de notificar al órgano(2)
B14: Procedentes de colegios profesionales | C14: Procedentes de juzgados o decanatos
B15: - | C15: - | D15: - | E15: - | F15: - | G15: - | H15: -
B16: (1) Normalmente se produce la inadmisión por la falta de presentación de la documentación requerida en plazo concedido a tal efecto.
B17: (2) La obligación de notificación aparece expresamente recogida en el art 17 de la Ley que regula esta materia que dice: La resolución se notificará en el plazo común de tres días al solicitante, al Colegio de Abogados y, en su caso, al Colegio de Procuradores, así como a las partes interesadas y se comunicará al Juzgado o Tribunal que esté conociendo del proceso, o al Juez Decano de la localidad si aquél no se hubiera iniciado.
B19: Tiempo medio (en días) entre registro y notificación al órgano de la resolución | H19: -
B21: Procesos judiciales y procedimientos administrativos que tengan causa directa o indirecta en la violencia de género
B22: Nº solicitudes | H22: -
B23: Nº reconocimientos de derecho | H23: -
B25: Para los casos en los que existe un pleito en trámite
B26: Tiempo medio (en días) que transcurre entre el registro de la solicitud y la comunicación de la resolución al órgano | H26: -
B28: Impugnaciones
B29: Nº resoluciones impugnadas | C29: Admitidas | D29: Remitidas al juzgado o tribunal para su resolución | E29: Pendientes de remitir al juzgado o tribunal para su resolución
B30: - | C30: - | D30: - | E30: -
